{"text_format":"1","workbook":"xlsx","n_sheets":6,"sheets":["Instructions","Circuits","Devices","Data","Circuit Report","Device Report"],"not_rendered":{"charts":0,"images":6,"macros":1,"external_links":0,"defined_names":4,"comments":0,"pivot_tables":0},"unopened":[],"bounds":{"document_bytes":16777216,"sheet_cells":100000,"rows_first":2000,"rows_last":500,"rows_between":2000,"halvings":0,"cell_chars":16384,"cell_head_chars":4096},"cells_cut":0,"cells_raw":0,"read":"whole","date_system":"1900"}

{"sheet":"Instructions","index":0,"n_rows":103,"n_cols":10,"rows_kept":103,"cut":false,"hidden":false,"merged":[[92,1,92,10],[95,2,95,10],[98,2,98,10],[102,1,102,10],[71,1,72,10],[75,1,75,10],[78,1,78,10],[81,1,81,10],[84,1,84,10],[89,1,89,10],[68,1,68,10],[39,4,39,6],[40,4,40,6],[41,4,41,6],[42,4,42,6],[43,4,43,6],[44,4,44,6],[45,4,45,6],[48,2,48,10],[54,2,54,10],[57,2,57,10],[63,2,63,10],[38,4,38,6],[12,1,12,10],[17,1,17,10],[20,1,20,10],[23,1,23,10],[26,1,26,10],[30,1,30,10],[33,4,33,6],[34,4,34,6],[35,4,35,6],[36,4,36,6],[37,4,37,6],[11,1,11,2],[1,5,1,7],[3,5,3,7],[6,1,6,11],[8,1,8,2],[9,1,9,10]]}
[]
[null,null,null,null,null,"CommandCalc"]
[]
[null,null,"Version 8.0",null,null,"Instructions For Use"]
[]
[null,"General"]
[null,"CommandCalc is a spreadsheet tool that allows you to calculate worst case, (end of line) voltage drop on up to 20 notification appliance circuits at a time. The circuits may be numbered and named at the designers discretion. To assist in the selection of notification appliances, CommandCalc includes the alarm current draws of all 24 volt Gentex notification appliances, as well as allowing the designer to manually type in any non-Gentex devices they might be using.  "]
[]
[null,"Recommended Installation"]
[null,"The Gentex CommandCalc spreadsheet may be opened, edited, and saved, as is, in Microsoft Excel97 or later versions. For easier opening and saving of new (blank) projects the following is recommended: Open the Gentex CommandCalc Excel97 spreadsheet file and make any modifications to it that will be standard on all of your projects. For example, you may want to type in your company information in the \"Setup\" screen. Before entering any circuit information etc., save the file using File/Save As, and save it as a \"Template\" in your C:\\Program FIles\\Microsoft Office\\Templates directory. (This is the default directory when you select template as the file type you are saving as.) Template is a choice in the dropdown box titled \"Save As Type\" at the bottom of the Save As dialog box. By saving it as a template, you will always be able to open a blank CommandCalc project by selecting File/New from the Excel97 menu bar and clicking on Gentex CommandCalc. When saving CommandCalc projects you would save it as you would any other Excel file by selecting File/Save from the Excel menu bar, and saving it to your (My Documents) directory as a standard workbook. "]
[]
[]
[]
[null,null,null,null,"Circuit Summary Screen"]
[null,"Circuit Number","Circuit Name","Supply Voltage (VDC)","Alarm Current (Rt. Click)","Wire Type","Ohms / 1000 ft.","Length (Feet)","Total Resistance (Ohms)","Voltage Last Device"]
[null,1,"Lobby Strobes/Horns",24,1.21,"#14AWG Stranded",3.26,150,0.98,22.81]
[]
[null,"Each line of the \"Circuit Summary\" screen represents a single notification appliance circuit. Throughout the spreadsheet the color yellow is used to indicate which cells may be edited or changed. Gray colored cells contain formulas that may not be changed and are calculated automatically. The voltage drop percentage cell, changes color based on the value entered in \"Setup\" for the \"Voltage Drop Warning Threshold\". This cell is also calculated automatically and may not be changed."]
[]
[null,"Circuit Number"]
[null,"Circuit Number is intended to be used as a numerical identification of each circuit and may be selected two ways. You can enter any combination of letters/numbers manually for each circuit by typing in the appropriate cell, or you can click on the \"Setup\" button, click again on the \"Configure Auto Circuit Numbering\" button and have the spreadsheet automatically insert a numerical sequence of 1-20 circuit numbers starting with any number of your choosing. Please Note: Using Auto Circuit Numbering erases and reconfigures any circuit numbers you have entered manually into the spreadsheet."]
[]
[null,"Circuit Name"]
[null,"Circuit Name is a description of the circuit area and/or devices. Any combination of letters and numbers that fit into the cell may be entered."]
[]
[null,"Supply Voltage"]
[null,"Enter the supply voltage (VDC) for each circuit. If you wish to have all 20 circuits the same, you can enter a value in the \"Setup\" screen under \"Common Circuit Supply Voltage\" and that figure will automatically be entered into all 20 circuits Supply Voltage cells. Please Note: Entering a value into the \"Common Circuit Supply Voltage\" box in \"Setup\" will erase any figures you have entered manually in the \"Supply Voltage\" cells."]
[]
[]
[null,"Alarm Current",null,0]
[null,"The red borders around this cell indicate that you must <Right Click> in this cell to configure the notification appliances used on this circuit. Right clicking brings up the \"Circuit Devices\" section as shown below. Please note the spreadsheet will not allow you to proceed to the \"Circuit Devices\" screen without first entering at least a circuit number for that circuit."]
[]
[]
[null,null,null,null,"Circuit Number: 1"]
[null,null,null,null,"Circuit Name: Lobby Strobes/Horns"]
[null,null,null,"Qty.","Device",null,null,"Alarm Current (Each)","Alarm Current (Total)"]
[null,null,null,10,"Gentex GEC24-15/75 Horn/Strobe",null,null,7.8E-2,0.78]
[]
[]
[]
[]
[]
[]
[]
[null,null,null,1,"Any manufacturer notification appliance",null,null,0.1,0.1]
[]
[null,null,null,null,null,null,null,"Total:",0.88]
[]
[null,null,"The device entry screen allows you to add up to 10 different types of notification appliances to each circuit. The first 8 devices are chosen from a dropdown box of over 100 Gentex notification appliances/options. The last 2 lines are reserved to manually enter any device you wish, including non-Gentex manufactured products."]
[]
[null,null,"Qty."]
[null,null,"Enter the quantity of the first type of device on this circuit."]
[]
[null,null,"Device"]
[null,null,"Click in this cell and choose the type of device from the dropdown box of all Gentex notification appliances. Please Note: Most Gentex appliances allow you to select separate horn and strobe wiring. Devices listed in the dropdown box as (Split) are combination horn/strobes where the current draw is figured separately for each the horn and strobe side. Example: GEC24-15/75 Horn Circuit (Split) is the horn only side of the Commander2 GEC24-15/75 Combination Horn/Strobe with the jumpers removed for separate horn and strobe power."]
[]
[null,null,"Alarm Current (Each)"]
[null,null,"Alarm current is looked up and entered automatically for any of the Gentex appliances you choose from the dropdown lists. If you manually enter a non-Gentex manufactured appliance in either of the last 2 lines you must also enter the appropriate amount of current draw for that device in the \"Alarm Current (Each) cell."]
[]
[null,null,"Alarm Current (Total)"]
[null,null,"The total alarm current for each device and for the circuit is automatically calculated."]
[]
[null,null,"Exiting "]
[null,null,"You can exit the device configuration screen and go back to the \"Circuit Summary\" screen by right clicking anywhere on the page."]
[]
[]
[]
[null,"Wire Type"]
[null,"Select the type/gauge of wire used on this circuit from the dropdown list provided. Please Note: Only 1 wire type is allowed per circuit. If your circuit contains multiple types of wire, use the highest gauge (smallest diameter) of the types you are using. "]
[]
[null,"Ohms Per 1000 ft"]
[null,"This figure is automatically calculated based on the type of wire you select. The resistance values are taken from the National Electric Code (NFPA 70) Chapter 9 Table 8. "]
[]
[]
[null,"Length"]
[null,"Enter the length of the circuit in feet from the panel to the furthest device, one way. If your circuit is Class A be sure to enter the length of the return side as well, or double the distance from the panel to the furthest device."]
[]
[null,"Total Resistance"]
[null,"The total resistance in ohms is calculated automatically using the Length and Ohms / 1000ft values. This value represents the total resistance of the wire for this circuit."]
[]
[null,"Voltage Last Device"]
[null,"This figure represents what is calculated to be the voltage present at the furthest (last) device in the circuit. This is automatically calculated by the spreadsheet."]
[]
[null,"Voltage Drop Percentage %"]
[null,"Voltage drop percentage is automatically calculated based on the difference between the supply voltage and the voltage at the last device figures. The cell color will be green if the voltage drop percentage is less than what has been entered in the \"Voltage Drop Percentage Warning Threshold\" box in \"Setup\". The cell will be red in color if the value is equal to or greater than the threshold value."]
[]
[]
[]
[null,"Setup"]
[null,"By clicking on the \"Setup\" button you can enter project information such as Name:, Address:, etc. of both the project and the company providing the system. This information appears on the printed reports."]
[]
[null,"Printing"]
[null,"In order to print the formatted reports supplied with CommandCalc, you must use the \"Print Circuit Summary\" or \"Print Circuit Devices\" command buttons on the main \"Circuit Summary\" screen. By using these buttons the spreadsheet automatically deletes any blank fields etc. You will not get desirable results using Excel's File/Print menu command."]
[]
[null,null,"\"Print Circuit Summary\" Button"]
[null,null,"This button prints a summary similar to what is shown on the main \"Circuit Summary\" screen. Any unused circuits are filtered out."]
[]
[null,null,"\"Print Circuit Devices\" Button"]
[null,null,"This button prints a detail of the devices and current draw configured for each circuit. Any blanks are also filtered out."]
[]
[]
[null,"Cutting & Pasting Reports Into Other Software Packages"]
[null,"For ease of use the \"Circuit Summary\" & \"Circuit Devices\" reports are calculated and formatted automatically on hidden worksheets. For normal use requiring only printed output it is unnecessary to \"unhide\" these worksheets. If you wish to cut and paste these formatted reports into a drafting software package that supports Windows Cut & Paste functions, such as AutoCad 2000 follow these steps: Click on Format/Sheet/Unhide from the menu bar. This will bring up a box giving you a list of all the hidden worksheets. Clicking on \"Circuit Report\" or Device Report\" followed by the OK button unhides these worksheets. A new sheet tab entitled \"Circuit Report\" and/or \"Device Report\" will be visible near the bottom of the screen. You may now click on these sheet tabs to navigate to the appropriate report. Highlight the appropriate cells and then perform your cut and paste function."]

{"sheet":"Circuits","index":1,"n_rows":33,"n_cols":11,"rows_kept":33,"cut":false,"hidden":false,"merged":[[19,9,19,10],[20,9,20,10],[21,9,21,10],[22,9,22,10],[23,9,23,10],[18,9,18,10],[7,9,7,10],[8,9,8,10],[9,9,9,10],[10,9,10,10],[11,9,11,10],[12,9,12,10],[13,9,13,10],[14,9,14,10],[15,9,15,10],[16,9,16,10],[17,9,17,10],[6,9,6,10],[0,4,0,6],[1,4,1,5],[3,9,3,10],[4,9,4,10],[5,9,5,10]]}
[null,null,null,null,"CommandCalc"]
[null,null,null,null,"Circuit Summary"]
[null,null,null,null,null,null,null,null,null,null,{"$f":"Data!B14/100","v":0.21568627450980393}]
[null,"Circuit Number","Circuit Name","Supply Voltage (VDC)","Alarm Current (Rt. Click)","Wire Type","Ohms / 1000 ft.","Length (Feet)","Total Resistance (Ohms)","Voltage Last Device"]
[null,null,null,null,{"$f":"Devices!E46","v":0},null,{"$f":"IF(F5=\"\",\"\",VLOOKUP(F5,$F$26:$G$33,2))","v":""},null,{"$f":"IF(H5>0,((H5*2)/1000)*G5,0)","v":0},{"$f":"D5-(I5*E5)","v":0}]
[null,"",null,null,{"$f":"Devices!E76","v":0},null,"",null,0,{"$f":"D6-(I6*E6)","v":0}]
[null,"",null,null,{"$f":"Devices!E106","v":0},null,"",null,0,{"$f":"D7-(I7*E7)","v":0}]
[null,"",null,null,{"$f":"Devices!E136","v":0},null,"",null,0,0]
[null,"",null,null,{"$f":"Devices!E166","v":0},null,"",null,0,0]
[null,"",null,null,{"$f":"Devices!E196","v":0},null,"",null,0,0]
[null,"",null,null,{"$f":"Devices!E226","v":0},null,"",null,0,0]
[null,"",null,null,{"$f":"Devices!E256","v":0},null,"",null,0,0]
[null,"",null,null,{"$f":"Devices!E286","v":0},null,"",null,0,0]
[null,"",null,null,{"$f":"Devices!E316","v":0},null,"",null,0,0]
[null,"",null,null,{"$f":"Devices!E346","v":0},null,"",null,0,0]
[null,"",null,null,{"$f":"Devices!E376","v":0},null,"",null,0,0]
[null,"",null,null,{"$f":"Devices!E406","v":0},null,"",null,0,0]
[null,"",null,null,{"$f":"Devices!E436","v":0},null,"",null,0,0]
[null,"",null,null,{"$f":"Devices!E466","v":0},null,"",null,0,0]
[null,"",null,null,{"$f":"Devices!E496","v":0},null,"",null,0,0]
[null,"",null,null,{"$f":"Devices!E526","v":0},null,"",null,0,0]
[null,"",null,null,{"$f":"Devices!E556","v":0},null,"",null,0,0]
[null,"",null,null,{"$f":"Devices!E586","v":0},null,"",null,0,0]
[null,"",null,null,{"$f":"Devices!E616","v":0},null,"",null,0,0]
[]
[null,null,null,20.399999999999999,"(24V System)","#12AWG Solid",2.0099999999999998]
[null,null,null,10.199999999999999,"(12V System)","#12AWG Stranded",2.0499999999999998,null,20.399999999999999]
[null,null,null,null,null,"#14AWG Solid",3.19,null,10.199999999999999]
[null,null,null,null,null,"#14AWG Stranded",3.26]
[null,null,null,null,null,"#16AWG Solid",5.08]
[null,null,null,null,null,"#16AWG Stranded",5.29]
[null,null,null,null,null,"#18AWG Solid",8.08]
[null,null,null,null,null,"#18AWG Stranded",8.4499999999999993]

{"sheet":"Devices","index":2,"n_rows":876,"n_cols":5,"rows_kept":876,"cut":false,"hidden":true,"merged":[]}
[]
[]
[]
[]
[]
[]
[]
[]
[]
[]
[]
[]
[]
[]
[]
[]
[]
[]
[]
[]
[]
[]
[]
[]
[]
[]
[]
[]
[]
[]
[]
[]
[null,null,{"$f":"\"Circuit Number: \"&Circuits!B5","v":"Circuit Number: "}]
[null,null,{"$f":"\"Circuit Name: \"&Circuits!C5","v":"Circuit Name: "}]
[null,"Qty","Devices","Alarm Current (Each)","Alarm Current (Total)"]
[null,null,null,{"$f":"IF(C36<>\"\",VLOOKUP(C36,$C$700:$D$876,2),0)","v":0},{"$f":"IF(B36>0,(B36*D36),0)","v":0}]
[null,null,null,{"$f":"IF(C37<>\"\",VLOOKUP(C37,$C$700:$D$876,2),0)","v":0},0]
[null,null,null,0,0]
[null,null,null,0,0]
[null,null,null,0,0]
[null,null,null,0,0]
[null,null,null,0,0]
[null,null,null,0,0]
[null,null,null,0,0]
[null,null,null,0,0]
[null,null,"Right Click Anywhere On This Page To Return","Total:",{"$f":"SUM(E36:E45)","v":0}]
[]
[]
[]
[]
[]
[]
[]
[]
[]
[]
[]
[]
[]
[]
[]
[]
[null,null,{"$f":"\"Circuit Number: \"&Circuits!B6","v":"Circuit Number: "}]
[null,null,{"$f":"\"Circuit Name: \"&Circuits!C6","v":"Circuit Name: "}]
[null,"Qty","Devices","Alarm Current (Each)","Alarm Current (Total)"]
[null,null,null,{"$f":"IF(C66<>\"\",VLOOKUP(C66,$C$700:$D$876,2),0)","v":0},{"$f":"IF(B66>0,(B66*D66),0)","v":0}]
[null,null,null,{"$f":"IF(C67<>\"\",VLOOKUP(C67,$C$700:$D$876,2),0)","v":0},0]
[null,null,null,0,0]
[null,null,null,0,0]
[null,null,null,0,0]
[null,null,null,0,0]
[null,null,null,0,0]
[null,null,null,0,0]
[null,null,null,0,0]
[null,null,null,0,0]
[null,null,"Right Click Anywhere On This Page To Return","Total:",{"$f":"SUM(E66:E75)","v":0}]
[]
[]
[]
[]
[]
[]
[]
[]
[]
[]
[]
[]
[]
[]
[]
[]
[null,null,{"$f":"\"Circuit Number: \"&Circuits!B7","v":"Circuit Number: "}]
[null,null,{"$f":"\"Circuit Name: \"&Circuits!C7","v":"Circuit Name: "}]
[null,"Qty","Devices","Alarm Current (Each)","Alarm Current (Total)"]
[null,null,null,{"$f":"IF(C96<>\"\",VLOOKUP(C96,$C$700:$D$876,2),0)","v":0},{"$f":"IF(B96>0,(B96*D96),0)","v":0}]
[null,null,null,{"$f":"IF(C97<>\"\",VLOOKUP(C97,$C$700:$D$876,2),0)","v":0},0]
[null,null,null,0,0]
[null,null,null,0,0]
[null,null,null,0,0]
[null,null,null,0,0]
[null,null,null,0,0]
[null,null,null,0,0]
[null,null,null,0,0]
[null,null,null,0,0]
[null,null,"Right Click Anywhere On This Page To Return","Total:",{"$f":"SUM(E96:E105)","v":0}]
[]
[]
[]
[]
[]
[]
[]
[]
[]
[]
[]
[]
[]
[]
[]
[]
[null,null,{"$f":"\"Circuit Number: \"&Circuits!B8","v":"Circuit Number: "}]
[null,null,{"$f":"\"Circuit Name: \"&Circuits!C8","v":"Circuit Name: "}]
[null,"Qty","Devices","Alarm Current (Each)","Alarm Current (Total)"]
[null,null,null,{"$f":"IF(C126<>\"\",VLOOKUP(C126,$C$700:$D$876,2),0)","v":0},{"$f":"IF(B126>0,(B126*D126),0)","v":0}]
[null,null,null,{"$f":"IF(C127<>\"\",VLOOKUP(C127,$C$700:$D$876,2),0)","v":0},0]
[null,null,null,0,0]
[null,null,null,0,0]
[null,null,null,0,0]
[null,null,null,0,0]
[null,null,null,0,0]
[null,null,null,0,0]
[null,null,null,0,0]
[null,null,null,0,0]
[null,null,"Right Click Anywhere On This Page To Return","Total:",{"$f":"SUM(E126:E135)","v":0}]
[]
[]
[]
[]
[]
[]
[]
[]
[]
[]
[]
[]
[]
[]
[]
[]
[null,null,{"$f":"\"Circuit Number: \"&Circuits!B9","v":"Circuit Number: "}]
[null,null,{"$f":"\"Circuit Name: \"&Circuits!C9","v":"Circuit Name: "}]
[null,"Qty","Devices","Alarm Current (Each)","Alarm Current (Total)"]
[null,null,null,{"$f":"IF(C156<>\"\",VLOOKUP(C156,$C$700:$D$876,2),0)","v":0},{"$f":"IF(B156>0,(B156*D156),0)","v":0}]
[null,null,null,{"$f":"IF(C157<>\"\",VLOOKUP(C157,$C$700:$D$876,2),0)","v":0},0]
[null,null,null,0,0]
[null,null,null,0,0]
[null,null,null,0,0]
[null,null,null,0,0]
[null,null,null,0,0]
[null,null,null,0,0]
[null,null,null,0,0]
[null,null,null,0,0]
[null,null,"Right Click Anywhere On This Page To Return","Total:",{"$f":"SUM(E156:E165)","v":0}]
[]
[]
[]
[]
[]
[]
[]
[]
[]
[]
[]
[]
[]
[]
[]
[]
[null,null,{"$f":"\"Circuit Number: \"&Circuits!B10","v":"Circuit Number: "}]
[null,null,{"$f":"\"Circuit Name: \"&Circuits!C10","v":"Circuit Name: "}]
[null,"Qty","Devices","Alarm Current (Each)","Alarm Current (Total)"]
[null,null,null,{"$f":"IF(C186<>\"\",VLOOKUP(C186,$C$700:$D$876,2),0)","v":0},{"$f":"IF(B186>0,(B186*D186),0)","v":0}]
[null,null,null,{"$f":"IF(C187<>\"\",VLOOKUP(C187,$C$700:$D$876,2),0)","v":0},0]
[null,null,null,0,0]
[null,null,null,0,0]
[null,null,null,0,0]
[null,null,null,0,0]
[null,null,null,0,0]
[null,null,null,0,0]
[null,null,null,0,0]
[null,null,null,0,0]
[null,null,"Right Click Anywhere On This Page To Return","Total:",{"$f":"SUM(E186:E195)","v":0}]
[]
[]
[]
[]
[]
[]
[]
[]
[]
[]
[]
[]
[]
[]
[]
[]
[null,null,{"$f":"\"Circuit Number: \"&Circuits!B11","v":"Circuit Number: "}]
[null,null,{"$f":"\"Circuit Name: \"&Circuits!C11","v":"Circuit Name: "}]
[null,"Qty","Devices","Alarm Current (Each)","Alarm Current (Total)"]
[null,null,null,{"$f":"IF(C216<>\"\",VLOOKUP(C216,$C$700:$D$876,2),0)","v":0},{"$f":"IF(B216>0,(B216*D216),0)","v":0}]
[null,null,null,{"$f":"IF(C217<>\"\",VLOOKUP(C217,$C$700:$D$876,2),0)","v":0},0]
[null,null,null,0,0]
[null,null,null,0,0]
[null,null,null,0,0]
[null,null,null,0,0]
[null,null,null,0,0]
[null,null,null,0,0]
[null,null,null,0,0]
[null,null,null,0,0]
[null,null,"Right Click Anywhere On This Page To Return","Total:",{"$f":"SUM(E216:E225)","v":0}]
[]
[]
[]
[]
[]
[]
[]
[]
[]
[]
[]
[]
[]
[]
[]
[]
[null,null,{"$f":"\"Circuit Number: \"&Circuits!B12","v":"Circuit Number: "}]
[null,null,{"$f":"\"Circuit Name: \"&Circuits!C12","v":"Circuit Name: "}]
[null,"Qty","Devices","Alarm Current (Each)","Alarm Current (Total)"]
[null,null,null,{"$f":"IF(C246<>\"\",VLOOKUP(C246,$C$700:$D$876,2),0)","v":0},{"$f":"IF(B246>0,(B246*D246),0)","v":0}]
[null,null,null,{"$f":"IF(C247<>\"\",VLOOKUP(C247,$C$700:$D$876,2),0)","v":0},0]
[null,null,null,0,0]
[null,null,null,0,0]
[null,null,null,0,0]
[null,null,null,0,0]
[null,null,null,0,0]
[null,null,null,0,0]
[null,null,null,0,0]
[null,null,null,0,0]
[null,null,"Right Click Anywhere On This Page To Return","Total:",{"$f":"SUM(E246:E255)","v":0}]
[]
[]
[]
[]
[]
[]
[]
[]
[]
[]
[]
[]
[]
[]
[]
[]
[null,null,{"$f":"\"Circuit Number: \"&Circuits!B13","v":"Circuit Number: "}]
[null,null,{"$f":"\"Circuit Name: \"&Circuits!C13","v":"Circuit Name: "}]
[null,"Qty","Devices","Alarm Current (Each)","Alarm Current (Total)"]
[null,null,null,{"$f":"IF(C276<>\"\",VLOOKUP(C276,$C$700:$D$876,2),0)","v":0},{"$f":"IF(B276>0,(B276*D276),0)","v":0}]
[null,null,null,{"$f":"IF(C277<>\"\",VLOOKUP(C277,$C$700:$D$876,2),0)","v":0},0]
[null,null,null,0,0]
[null,null,null,0,0]
[null,null,null,0,0]
[null,null,null,0,0]
[null,null,null,0,0]
[null,null,null,0,0]
[null,null,null,0,0]
[null,null,null,0,0]
[null,null,"Right Click Anywhere On This Page To Return","Total:",{"$f":"SUM(E276:E285)","v":0}]
[]
[]
[]
[]
[]
[]
[]
[]
[]
[]
[]
[]
[]
[]
[]
[]
[null,null,{"$f":"\"Circuit Number: \"&Circuits!B14","v":"Circuit Number: "}]
[null,null,{"$f":"\"Circuit Name: \"&Circuits!C14","v":"Circuit Name: "}]
[null,"Qty","Devices","Alarm Current (Each)","Alarm Current (Total)"]
[null,null,null,{"$f":"IF(C306<>\"\",VLOOKUP(C306,$C$700:$D$876,2),0)","v":0},{"$f":"IF(B306>0,(B306*D306),0)","v":0}]
[null,null,null,{"$f":"IF(C307<>\"\",VLOOKUP(C307,$C$700:$D$876,2),0)","v":0},0]
[null,null,null,0,0]
[null,null,null,0,0]
[null,null,null,0,0]
[null,null,null,0,0]
[null,null,null,0,0]
[null,null,null,0,0]
[null,null,null,0,0]
[null,null,null,0,0]
[null,null,"Right Click Anywhere On This Page To Return","Total:",{"$f":"SUM(E306:E315)","v":0}]
[]
[]
[]
[]
[]
[]
[]
[]
[]
[]
[]
[]
[]
[]
[]
[]
[null,null,{"$f":"\"Circuit Number: \"&Circuits!B15","v":"Circuit Number: "}]
[null,null,{"$f":"\"Circuit Name: \"&Circuits!C15","v":"Circuit Name: "}]
[null,"Qty","Devices","Alarm Current (Each)","Alarm Current (Total)"]
[null,null,null,{"$f":"IF(C336<>\"\",VLOOKUP(C336,$C$700:$D$876,2),0)","v":0},{"$f":"IF(B336>0,(B336*D336),0)","v":0}]
[null,null,null,{"$f":"IF(C337<>\"\",VLOOKUP(C337,$C$700:$D$876,2),0)","v":0},0]
[null,null,null,0,0]
[null,null,null,0,0]
[null,null,null,0,0]
[null,null,null,0,0]
[null,null,null,0,0]
[null,null,null,0,0]
[null,null,null,0,0]
[null,null,null,0,0]
[null,null,"Right Click Anywhere On This Page To Return","Total:",{"$f":"SUM(E336:E345)","v":0}]
[]
[]
[]
[]
[]
[]
[]
[]
[]
[]
[]
[]
[]
[]
[]
[]
[null,null,{"$f":"\"Circuit Number: \"&Circuits!B16","v":"Circuit Number: "}]
[null,null,{"$f":"\"Circuit Name: \"&Circuits!C16","v":"Circuit Name: "}]
[null,"Qty","Devices","Alarm Current (Each)","Alarm Current (Total)"]
[null,null,null,{"$f":"IF(C366<>\"\",VLOOKUP(C366,$C$700:$D$876,2),0)","v":0},{"$f":"IF(B366>0,(B366*D366),0)","v":0}]
[null,null,null,{"$f":"IF(C367<>\"\",VLOOKUP(C367,$C$700:$D$876,2),0)","v":0},0]
[null,null,null,0,0]
[null,null,null,0,0]
[null,null,null,0,0]
[null,null,null,0,0]
[null,null,null,0,0]
[null,null,null,0,0]
[null,null,null,0,0]
[null,null,null,0,0]
[null,null,"Right Click Anywhere On This Page To Return","Total:",{"$f":"SUM(E366:E375)","v":0}]
[]
[]
[]
[]
[]
[]
[]
[]
[]
[]
[]
[]
[]
[]
[]
[]
[null,null,{"$f":"\"Circuit Number: \"&Circuits!B17","v":"Circuit Number: "}]
[null,null,{"$f":"\"Circuit Name: \"&Circuits!C17","v":"Circuit Name: "}]
[null,"Qty","Devices","Alarm Current (Each)","Alarm Current (Total)"]
[null,null,null,{"$f":"IF(C396<>\"\",VLOOKUP(C396,$C$700:$D$876,2),0)","v":0},{"$f":"IF(B396>0,(B396*D396),0)","v":0}]
[null,null,null,{"$f":"IF(C397<>\"\",VLOOKUP(C397,$C$700:$D$876,2),0)","v":0},0]
[null,null,null,0,0]
[null,null,null,0,0]
[null,null,null,0,0]
[null,null,null,0,0]
[null,null,null,0,0]
[null,null,null,0,0]
[null,null,null,0,0]
[null,null,null,0,0]
[null,null,"Right Click Anywhere On This Page To Return","Total:",{"$f":"SUM(E396:E405)","v":0}]
[]
[]
[]
[]
[]
[]
[]
[]
[]
[]
[]
[]
[]
[]
[]
[]
[null,null,{"$f":"\"Circuit Number: \"&Circuits!B18","v":"Circuit Number: "}]
[null,null,{"$f":"\"Circuit Name: \"&Circuits!C18","v":"Circuit Name: "}]
[null,"Qty","Devices","Alarm Current (Each)","Alarm Current (Total)"]
[null,null,null,{"$f":"IF(C426<>\"\",VLOOKUP(C426,$C$700:$D$876,2),0)","v":0},{"$f":"IF(B426>0,(B426*D426),0)","v":0}]
[null,null,null,{"$f":"IF(C427<>\"\",VLOOKUP(C427,$C$700:$D$876,2),0)","v":0},0]
[null,null,null,0,0]
[null,null,null,0,0]
[null,null,null,0,0]
[null,null,null,0,0]
[null,null,null,0,0]
[null,null,null,0,0]
[null,null,null,0,0]
[null,null,null,0,0]
[null,null,"Right Click Anywhere On This Page To Return","Total:",{"$f":"SUM(E426:E435)","v":0}]
[]
[]
[]
[]
[]
[]
[]
[]
[]
[]
[]
[]
[]
[]
[]
[]
[null,null,{"$f":"\"Circuit Number: \"&Circuits!B19","v":"Circuit Number: "}]
[null,null,{"$f":"\"Circuit Name: \"&Circuits!C19","v":"Circuit Name: "}]
[null,"Qty","Devices","Alarm Current (Each)","Alarm Current (Total)"]
[null,null,null,{"$f":"IF(C456<>\"\",VLOOKUP(C456,$C$700:$D$876,2),0)","v":0},{"$f":"IF(B456>0,(B456*D456),0)","v":0}]
[null,null,null,{"$f":"IF(C457<>\"\",VLOOKUP(C457,$C$700:$D$876,2),0)","v":0},0]
[null,null,null,0,0]
[null,null,null,0,0]
[null,null,null,0,0]
[null,null,null,0,0]
[null,null,null,0,0]
[null,null,null,0,0]
[null,null,null,0,0]
[null,null,null,0,0]
[null,null,"Right Click Anywhere On This Page To Return","Total:",{"$f":"SUM(E456:E465)","v":0}]
[]
[]
[]
[]
[]
[]
[]
[]
[]
[]
[]
[]
[]
[]
[]
[]
[null,null,{"$f":"\"Circuit Number: \"&Circuits!B20","v":"Circuit Number: "}]
[null,null,{"$f":"\"Circuit Name: \"&Circuits!C20","v":"Circuit Name: "}]
[null,"Qty","Devices","Alarm Current (Each)","Alarm Current (Total)"]
[null,null,null,{"$f":"IF(C486<>\"\",VLOOKUP(C486,$C$700:$D$876,2),0)","v":0},{"$f":"IF(B486>0,(B486*D486),0)","v":0}]
[null,null,null,{"$f":"IF(C487<>\"\",VLOOKUP(C487,$C$700:$D$876,2),0)","v":0},0]
[null,null,null,0,0]
[null,null,null,0,0]
[null,null,null,0,0]
[null,null,null,0,0]
[null,null,null,0,0]
[null,null,null,0,0]
[null,null,null,0,0]
[null,null,null,0,0]
[null,null,"Right Click Anywhere On This Page To Return","Total:",{"$f":"SUM(E486:E495)","v":0}]
[]
[]
[]
[]
[]
[]
[]
[]
[]
[]
[]
[]
[]
[]
[]
[]
[null,null,{"$f":"\"Circuit Number: \"&Circuits!B21","v":"Circuit Number: "}]
[null,null,{"$f":"\"Circuit Name: \"&Circuits!C21","v":"Circuit Name: "}]
[null,"Qty","Devices","Alarm Current (Each)","Alarm Current (Total)"]
[null,null,null,{"$f":"IF(C516<>\"\",VLOOKUP(C516,$C$700:$D$876,2),0)","v":0},{"$f":"IF(B516>0,(B516*D516),0)","v":0}]
[null,null,null,{"$f":"IF(C517<>\"\",VLOOKUP(C517,$C$700:$D$876,2),0)","v":0},0]
[null,null,null,0,0]
[null,null,null,0,0]
[null,null,null,0,0]
[null,null,null,0,0]
[null,null,null,0,0]
[null,null,null,0,0]
[null,null,null,0,0]
[null,null,null,0,0]
[null,null,"Right Click Anywhere On This Page To Return","Total:",{"$f":"SUM(E516:E525)","v":0}]
[]
[]
[]
[]
[]
[]
[]
[]
[]
[]
[]
[]
[]
[]
[]
[]
[null,null,{"$f":"\"Circuit Number: \"&Circuits!B22","v":"Circuit Number: "}]
[null,null,{"$f":"\"Circuit Name: \"&Circuits!C22","v":"Circuit Name: "}]
[null,"Qty","Devices","Alarm Current (Each)","Alarm Current (Total)"]
[null,null,null,{"$f":"IF(C546<>\"\",VLOOKUP(C546,$C$700:$D$876,2),0)","v":0},{"$f":"IF(B546>0,(B546*D546),0)","v":0}]
[null,null,null,{"$f":"IF(C547<>\"\",VLOOKUP(C547,$C$700:$D$876,2),0)","v":0},0]
[null,null,null,0,0]
[null,null,null,0,0]
[null,null,null,0,0]
[null,null,null,0,0]
[null,null,null,0,0]
[null,null,null,0,0]
[null,null,null,0,0]
[null,null,null,0,0]
[null,null,"Right Click Anywhere On This Page To Return","Total:",{"$f":"SUM(E546:E555)","v":0}]
[]
[]
[]
[]
[]
[]
[]
[]
[]
[]
[]
[]
[]
[]
[]
[]
[null,null,{"$f":"\"Circuit Number: \"&Circuits!B23","v":"Circuit Number: "}]
[null,null,{"$f":"\"Circuit Name: \"&Circuits!C23","v":"Circuit Name: "}]
[null,"Qty","Devices","Alarm Current (Each)","Alarm Current (Total)"]
[null,null,null,{"$f":"IF(C576<>\"\",VLOOKUP(C576,$C$700:$D$876,2),0)","v":0},{"$f":"IF(B576>0,(B576*D576),0)","v":0}]
[null,null,null,{"$f":"IF(C577<>\"\",VLOOKUP(C577,$C$700:$D$876,2),0)","v":0},0]
[null,null,null,0,0]
[null,null,null,0,0]
[null,null,null,0,0]
[null,null,null,0,0]
[null,null,null,0,0]
[null,null,null,0,0]
[null,null,null,0,0]
[null,null,null,0,0]
[null,null,"Right Click Anywhere On This Page To Return","Total:",{"$f":"SUM(E576:E585)","v":0}]
[]
[]
[]
[]
[]
[]
[]
[]
[]
[]
[]
[]
[]
[]
[]
[]
[null,null,{"$f":"\"Circuit Number: \"&Circuits!B24","v":"Circuit Number: "}]
[null,null,{"$f":"\"Circuit Name: \"&Circuits!C24","v":"Circuit Name: "}]
[null,"Qty","Devices","Alarm Current (Each)","Alarm Current (Total)"]
[null,null,null,{"$f":"IF(C606<>\"\",VLOOKUP(C606,$C$700:$D$876,2),0)","v":0},{"$f":"IF(B606>0,(B606*D606),0)","v":0}]
[null,null,null,{"$f":"IF(C607<>\"\",VLOOKUP(C607,$C$700:$D$876,2),0)","v":0},0]
[null,null,null,0,0]
[null,null,null,0,0]
[null,null,null,0,0]
[null,null,null,0,0]
[null,null,null,0,0]
[null,null,null,0,0]
[null,null,null,0,0]
[null,null,null,0,0]
[null,null,"Right Click Anywhere On This Page To Return","Total:",{"$f":"SUM(E606:E615)","v":0}]
[]
[]
[]
[]
[]
[]
[]
[]
[]
[]
[]
[]
[]
[]
[]
[]
[]
[]
[]
[]
[]
[]
[]
[]
[]
[]
[]
[]
[]
[]
[]
[]
[]
[]
[]
[]
[]
[]
[]
[]
[]
[]
[]
[]
[]
[]
[]
[]
[]
[]
[]
[]
[]
[]
[]
[]
[]
[]
[]
[]
[]
[]
[]
[]
[]
[]
[]
[]
[]
[]
[]
[]
[]
[]
[]
[]
[]
[]
[]
[]
[]
[]
[null,null,"Gentex Device","Avg."]
[null,null,"AVSM 12VDC Synchronization Module",3.1E-2]
[null,null,"AVSM 24VDC Synchronization Module",4.4999999999999998E-2]
[null,null,"GCC24 115Cd Horn/Strobe",0.313]
[null,null,"GCC24 150Cd Horn/Strobe",0.34399999999999997]
[null,null,"GCC24 15Cd Horn/Strobe",0.14299999999999999]
[null,null,"GCC24 30Cd Horn/Strobe",0.14299999999999999]
[null,null,"GCC24 75Cd Horn/Strobe",0.223]
[null,null,"GCC24 95Cd Horn/Strobe",0.24299999999999999]
[null,null,"GCC24 Horn (Isolated) ALL CANDELAS",2.3E-2]
[null,null,"GCCA, GCCB, GCCG, GCCR Horn (Isolated) ALL CANDELAS",2.3E-2]
[null,null,"GCCA24, GCCB24 or GCCG24 115Cd Horn/Strobe",0.23499999999999999]
[null,null,"GCCA24, GCCB24 or GCCG24 15Cd Horn/Strobe",0.14699999999999999]
[null,null,"GCCA24, GCCB24 or GCCG24 30Cd Horn/Strobe",0.14699999999999999]
[null,null,"GCCA24, GCCB24 or GCCG24 75Cd Horn/Strobe",0.16200000000000001]
[null,null,"GCCA24, GCCB24 or GCCG24 95Cd Horn/Strobe",0.22800000000000001]
[null,null,"GCCR24 115Cd Horn/Strobe",0.33600000000000002]
[null,null,"GCCR24 15Cd Horn/Strobe",0.14699999999999999]
[null,null,"GCCR24 30Cd Horn/Strobe",0.14699999999999999]
[null,null,"GCCR24 75Cd Horn/Strobe",0.23499999999999999]
[null,null,"GCCR24 95Cd Horn/Strobe",0.30599999999999999]
[null,null,"GCS24 or GCC24 (Isolated) 115Cd Strobe",0.28999999999999998]
[null,null,"GCS24 or GCC24 (Isolated) 150Cd Strobe",0.32100000000000001]
[null,null,"GCS24 or GCC24 (Isolated) 15Cd Strobe",0.12]
[null,null,"GCS24 or GCC24 (Isolated) 30Cd Strobe",0.12]
[null,null,"GCS24 or GCC24 (Isolated) 75Cd Strobe",0.2]
[null,null,"GCS24 or GCC24 (Isolated) 95Cd Strobe",0.22]
[null,null,"GCSA24, GCSB24, GCSG24 or GCCA24, GCCB24 GCCG24 (Isolated) 115Cd Strobe",0.21199999999999999]
[null,null,"GCSA24, GCSB24, GCSG24 or GCCA24, GCCB24 GCCG24 (Isolated) 75Cd Strobe",0.13900000000000001]
[null,null,"GCSA24, GCSB24, GCSG24 or GCCA24, GCCB24 GCCG24 (Isolated) 95Cd Strobe",0.20499999999999999]
[null,null,"GCSA24, GCSB24, GCSG24 or GCCA24, GCCB24, GCCG24 (Isolated) 15Cd Strobe",0.124]
[null,null,"GCSA24, GCSB24, GCSG24 or GCCA24, GCCB24, GCCG24 (Isolated) 30Cd Strobe",0.124]
[null,null,"GCSR24 or GCCR24 (Isolated) 115Cd Strobe",0.313]
[null,null,"GCSR24 or GCCR24 (Isolated) 15Cd Strobe",0.124]
[null,null,"GCSR24 or GCCR24 (Isolated) 30Cd Strobe",0.124]
[null,null,"GCSR24 or GCCR24 (Isolated) 75Cd Strobe",0.21199999999999999]
[null,null,"GCSR24 or GCCR24 (Isolated) 95Cd Strobe",0.28299999999999997]
[null,null,"GEC24 or GEC3-24 110Cd Horn/Strobe",0.188]
[null,null,"GEC24 or GEC3-24 15Cd Horn/Strobe",6.9000000000000006E-2]
[null,null,"GEC24 or GEC3-24 30Cd Horn/Strobe",8.5000000000000006E-2]
[null,null,"GEC24 or GEC3-24 60Cd Horn/Strobe",0.124]
[null,null,"GEC24 or GEC3-24 75Cd Horn/Strobe",0.14299999999999999]
[null,null,"GEC24-15/75 Horn Strobe",9.4E-2]
[null,null,"GEC24-177 Horn Strobe",0.24]
[null,null,"GEC3-12 15Cd Horn/Stobe",0.11899999999999999]
[null,null,"GEC3-12 30Cd Horn/Strobe",0.16800000000000001]
[null,null,"GEC3-12 60Cd Horn/Strobe",0.28699999999999998]
[null,null,"GEC3-12 75Cd Horn/Strobe",0.38700000000000001]
[null,null,"GECA24 110Cd Horn/Strobe ",0.20499999999999999]
[null,null,"GECA24 15Cd Horn/Strobe ",7.3999999999999996E-2]
[null,null,"GECA24 30Cd Horn/Strobe ",9.0999999999999998E-2]
[null,null,"GECA24 60Cd Horn/Strobe ",0.14000000000000001]
[null,null,"GECA24 75Cd Horn/Strobe ",0.17199999999999999]
[null,null,"GECA24 ALL CANDELAS (Isolated) Horn ",2.7E-2]
[null,null,"GECB, GECG or GECR 115Cd Horn/Strobe",0.33300000000000002]
[null,null,"GECB, GECG or GECR 15Cd Horn/Strobe",0.13200000000000001]
[null,null,"GECB, GECG or GECR 30Cd Horn/Strobe",0.157]
[null,null,"GECB, GECG or GECR 60Cd Horn/Strobe",0.23]
[null,null,"GECB, GECG or GECR 75Cd Horn/Strobe",0.27]
[null,null,"GECB24, GECG24 or GECR24 ALL CANDELAS (Isolated) Horn ",2.7E-2]
[null,null,"GEH12 or GEC12 ALL CANDELAS (Isolated) Horn",2.7E-2]
[null,null,"GEH24 or GEC24 ALL CANDELAS (Isolated) Horn",2.7E-2]
[null,null,"GES24 or GEC24 (Isolated) 15/75Cd Strobe",6.7000000000000004E-2]
[null,null,"GES24 or GEC24 (Isolated) 177Cd Strobe",0.21299999999999999]
[null,null,"GES24, GES3-24 or GEC3-24 (Isolated) 110Cd Strobe",0.161]
[null,null,"GES24, GES3-24 or GEC3-24 (Isolated) 15Cd Strobe",4.2000000000000003E-2]
[null,null,"GES24, GES3-24 or GEC3-24 (Isolated) 30Cd Strobe",5.8000000000000003E-2]
[null,null,"GES24, GES3-24 or GEC3-24 (Isolated) 60Cd Strobe",9.7000000000000003E-2]
[null,null,"GES24, GES3-24 or GEC3-24 (Isolated) 75Cd Strobe",0.11600000000000001]
[null,null,"GES3-12 or GEC3-12 (Isolated) 15Cd Strobe ",9.1999999999999998E-2]
[null,null,"GES3-12 or GEC3-12 (Isolated) 30Cd Strobe",0.14099999999999999]
[null,null,"GES3-12 or GEC3-12 (Isolated) 60Cd Strobe",0.26]
[null,null,"GES3-12 or GEC3-12 (Isolated) 75Cd Strobe",0.312]
[null,null,"GESA24 or GECA24 (Isolated) 110Cd Strobe",0.17799999999999999]
[null,null,"GESA24 or GECA24 (Isolated) 15Cd Strobe",4.7E-2]
[null,null,"GESA24 or GECA24 (Isolated) 30Cd Strobe",6.4000000000000001E-2]
[null,null,"GESA24 or GECA24 (Isolated) 60Cd Strobe",0.113]
[null,null,"GESA24 or GECA24 (Isolated) 75Cd Strobe",0.14499999999999999]
[null,null,"GESB, GESG, GESR (red) or GECB, GECG, GECR (Isolated) 15Cd Strobe",0.105]
[null,null,"GESB, GESG, GESR or GECB, GECG, GECR (Isolated) 115Cd Strobe",0.31]
[null,null,"GESB, GESG, GESR or GECB, GECG, GECR (Isolated) 30Cd Strobe",0.13]
[null,null,"GESB, GESG, GESR or GECB, GECG, GECR (Isolated) 60Cd Strobe",0.20300000000000001]
[null,null,"GESB, GESG, GESR or GECB, GECG, GECR (Isolated) 75Cd Strobe",0.24299999999999999]
[null,null,"GHLF Horn Low Frequency",0.157]
[null,null,"GHS or GWHS 115Cd Horn/Strobe",0.11700000000000001]
[null,null,"GHS or GWHS 150Cd Horn/Strobe",0.14599999999999999]
[null,null,"GHS or GWHS 15Cd Horn/Strobe",4.4999999999999998E-2]
[null,null,"GHS or GWHS 177Cd Horn/Strobe",0.17599999999999999]
[null,null,"GHS or GWHS 30Cd Horn/Strobe",5.3999999999999999E-2]
[null,null,"GHS or GWHS 75Cd Horn/Strobe",8.4000000000000005E-2]
[null,null,"GHSA, GWHSA, GHSB, GWHSB, GHSG, GWHSG 115Cd Horn/Strobe",0.17499999999999999]
[null,null,"GHSA, GWHSA, GHSB, GWHSB, GHSG, GWHSG 15Cd Horn/Strobe",5.1999999999999998E-2]
[null,null,"GHSA, GWHSA, GHSB, GWHSB, GHSG, GWHSG 30Cd Horn/Strobe",7.0000000000000007E-2]
[null,null,"GHSA, GWHSA, GHSB, GWHSB, GHSG, GWHSG 60Cd Horn/Strobe",0.111]
[null,null,"GHSA, GWHSA, GHSB, GWHSB, GHSG, GWHSG 75Cd Horn/Strobe",0.128]
[null,null,"GHSA, GWHSA, GHSB, GWHSB, GHSG, GWHSG 95Cd Horn/Strobe",0.15]
[null,null,"GHSLF 110Cd Horn/Strobe Low Frequency",0.47399999999999998]
[null,null,"GHSLF 15Cd Horn/Strobe Low Frequency",0.29099999999999998]
[null,null,"GHSLF 177Cd Horn/Strobe Low Frequency",0.52500000000000002]
[null,null,"GHSLFC 115Cd Low Frequency Horn/Selectable Strobe",0.27100000000000002]
[null,null,"GHSLFC 150Cd Low Frequency Horn/Selectable Strobe",0.29299999999999998]
[null,null,"GHSLFC 15Cd Low Frequency Horn/Selectable Strobe",0.19900000000000001]
[null,null,"GHSLFC 177Cd Low Frequency Horn/Selectable  Strobe",0.311]
[null,null,"GHSLFC 30Cd Low Frequency Horn/Selectable Strobe",0.20399999999999999]
[null,null,"GHSLFC 75Cd Low Frequency Horn/Selectable Strobe",0.24]
[null,null,"GHSR or GWHSR 10Cd Horn/Strobe",5.1999999999999998E-2]
[null,null,"GHSR or GWHSR 15Cd Horn/Strobe",7.0000000000000007E-2]
[null,null,"GHSR or GWHSR 30Cd Horn/Strobe",0.111]
[null,null,"GHSR or GWHSR 45Cd Horn/Strobe",0.128]
[null,null,"GHSR or GWHSR 60Cd Horn/Strobe",0.15]
[null,null,"GHSR or GWHSR 75Cd Horn/Strobe",0.17499999999999999]
[null,null,"GS or GWS 115Cd Strobe",0.107]
[null,null,"GS or GWS 150Cd Strobe",0.13800000000000001]
[null,null,"GS or GWS 15Cd Strobe",3.5000000000000003E-2]
[null,null,"GS or GWS 177Cd Strobe",0.16200000000000001]
[null,null,"GS or GWS 30Cd Strobe",4.1000000000000002E-2]
[null,null,"GS or GWS 75Cd Strobe",7.3999999999999996E-2]
[null,null,"GSA, GWSA, GSB, GWSB, GSG, GWSB 115Cd Strobe",0.16200000000000001]
[null,null,"GSA, GWSA, GSB, GWSB, GSG, GWSB 15Cd Strobe",3.5999999999999997E-2]
[null,null,"GSA, GWSA, GSB, GWSB, GSG, GWSB 30Cd Strobe",5.3999999999999999E-2]
[null,null,"GSA, GWSA, GSB, GWSB, GSG, GWSB 60Cd Strobe",9.2999999999999999E-2]
[null,null,"GSA, GWSA, GSB, GWSB, GSG, GWSB 75Cd Strobe",0.112]
[null,null,"GSA, GWSA, GSB, GWSB, GSG, GWSB 95Cd Strobe",0.13800000000000001]
[null,null,"GSR or GWSR 10Cd Strobe",3.5999999999999997E-2]
[null,null,"GSR or GWSR 15Cd Strobe",5.3999999999999999E-2]
[null,null,"GSR or GWSR 30Cd Strobe",9.2999999999999999E-2]
[null,null,"GSR or GWSR 45Cd Strobe",0.112]
[null,null,"GSR or GWSR 60Cd Strobe",0.13800000000000001]
[null,null,"GSR or GWSR 75Cd Strobe",0.16200000000000001]
[null,null,"GSS or GWSS 115Cd Speaker/Strobe",0.107]
[null,null,"GSS or GWSS 150Cd Speaker/Strobe",0.13800000000000001]
[null,null,"GSS or GWSS 15Cd Speaker/Strobe",3.5000000000000003E-2]
[null,null,"GSS or GWSS 177Cd Speaker/Strobe",0.16200000000000001]
[null,null,"GSS or GWSS 30Cd Speaker/Strobe",4.1000000000000002E-2]
[null,null,"GSS or GWSS 75Cd Speaker/Strobe",7.3999999999999996E-2]
[null,null,"GSSA, GWSSA, GSSB, GWSSB, GSSG, GWSSG 115Cd Speaker/Strobe",0.16200000000000001]
[null,null,"GSSA, GWSSA, GSSB, GWSSB, GSSG, GWSSG 15Cd Speaker/Strobe",3.5999999999999997E-2]
[null,null,"GSSA, GWSSA, GSSB, GWSSB, GSSG, GWSSG 30Cd Speaker/Strobe",5.3999999999999999E-2]
[null,null,"GSSA, GWSSA, GSSB, GWSSB, GSSG, GWSSG 60Cd Speaker/Strobe",9.2999999999999999E-2]
[null,null,"GSSA, GWSSA, GSSB, GWSSB, GSSG, GWSSG 75Cd Speaker/Strobe",0.112]
[null,null,"GSSA, GWSSA, GSSB, GWSSB, GSSG, GWSSG 95Cd Speaker/Strobe",0.13800000000000001]
[null,null,"GSSR or GWSSR 10Cd Speaker/Strobe",3.5999999999999997E-2]
[null,null,"GSSR or GWSSR 15Cd Speaker/Strobe",5.3999999999999999E-2]
[null,null,"GSSR or GWSSR 30Cd Speaker/Strobe",9.2999999999999999E-2]
[null,null,"GSSR or GWSSR 45Cd Speaker/Strobe",0.112]
[null,null,"GSSR or GWSSR 60Cd Speaker/Strobe",0.13800000000000001]
[null,null,"GSSR or GWSSR 75Cd Speaker/Strobe",0.16200000000000001]
[null,null,"GTSM Synchronization Module",4.4999999999999998E-2]
[null,null,"GX91 12VDC Mini-Horn",7.0000000000000001E-3]
[null,null,"GX91 24VDC Mini-Horn",1.0999999999999999E-2]
[null,null,"GX93 12VDC Mini-Horn",1.2999999999999999E-2]
[null,null,"GX93 24VDC Mini-Horn",1.7999999999999999E-2]
[null,null,"SSPK24CLP 115Cd Speaker/Strobe",0.28999999999999998]
[null,null,"SSPK24CLP 15Cd Speaker/Strobe",0.12]
[null,null,"SSPK24CLP 30Cd Speaker/Strobe",0.12]
[null,null,"SSPK24CLP 75Cd Speaker/Strobe",0.2]
[null,null,"SSPK24CLP 95Cd Speaker/Strobe",0.22]
[null,null,"SSPK24WLP 110Cd Speaker/Strobe",0.224]
[null,null,"SSPK24WLP 15/75Cd Speaker/Strobe",9.6000000000000002E-2]
[null,null,"SSPK24WLP 15Cd Speaker/Strobe",7.8E-2]
[null,null,"SSPK24WLP 30Cd Speaker/Strobe",9.6000000000000002E-2]
[null,null,"SSPK24WLP 60Cd Speaker/Strobe",0.13700000000000001]
[null,null,"SSPK24WLP 75Cd Speaker/Strobe",0.18]
[null,null,"SSPKA24 15/75Cd Speaker/Strobe",0.14799999999999999]
[null,null,"SSPKB24 15/75Cd Speaker/Strobe",0.28000000000000003]
[null,null,"SSPKG24 15/75Cd Speaker/Strobe",0.36]
[null,null,"SSPKR24 15/75Cd Speaker/Strobe",0.39700000000000002]
[null,null,"WGEC24 or WGECA24 (Isolated) Horn ",2.7E-2]
[null,null,"WGEC24 or WGECA24 75Cd Horn/Strobe",0.19700000000000001]
[null,null,"WGECB24, WGECG24 or WGECR24 (Isolated) Horn",2.7E-2]
[null,null,"WGECB24, WGECG24 or WGECR24 75Cd Horn/Strobe",0.19700000000000001]
[null,null,"WGES24, WGESA24 or WGEC24, WGECA24 (Isolated) 75Cd Strobe",0.17]
[null,null,"WGESB24, WGESG24, WGESR24 or WGECB24, WGECG24, WGECR24 (Isolated) 75Cd Strobe",0.17]
[null,null,"WSSPK24 15/75Cd Speaker/Strobe",9.6000000000000002E-2]
[null,null,"WSSPKA24 15/75Cd Speaker/Strobe",0.14799999999999999]
[null,null,"WSSPKB24 15/75Cd Speaker/Strobe",0.28000000000000003]
[null,null,"WSSPKG24 15/75Cd Speaker/Strobe",0.36]
[null,null,"WSSPKR24 15/75Cd Speaker/Strobe",0.39700000000000002]

{"sheet":"Data","index":3,"n_rows":14,"n_cols":2,"rows_kept":14,"cut":false,"hidden":true,"merged":[]}
["Project Name:"]
["Project Number:"]
["Date:"]
["Designer:"]
[]
["Company Name:"]
["Address1:"]
["City:"]
["State:"]
["Zip:"]
["Phone:"]
["Fax:"]
[]
["Voltage Drop Warning Threshold:",21.568627450980394]

{"sheet":"Circuit Report","index":4,"n_rows":34,"n_cols":9,"rows_kept":34,"cut":false,"hidden":true,"merged":[[5,3,6,4],[0,0,0,1],[1,0,1,1],[2,0,2,1],[3,0,3,1],[4,0,4,1]]}
[{"$f":"Data!B6","v":0}]
[{"$f":"Data!B7","v":0},null,null,null,null,{"$f":"\"Project Name: \"&Data!B1","v":"Project Name: "}]
[{"$f":"Data!B8&\", \"&Data!B9&\", \"&Data!B10","v":", , "},null,null,null,null,{"$f":"\"Project Number: \"&Data!B2","v":"Project Number: "}]
[{"$f":"Data!B11&\" Phone\"","v":" Phone"},null,null,null,null,{"$f":"\"Designer: \"&Data!B4","v":"Designer: "}]
[{"$f":"Data!B12&\" Fax\"","v":" Fax"},null,null,null,null,{"$f":"\"Date: \"&Data!B3","v":"Date: "}]
[null,null,null,"Circuit Summary"]
[]
["Circuit Number","Circuit Name","Supply Voltage (VDC)","Alarm Current","Wire Type","Ohms / 1000 ft.","Length (Feet)","Total Resistance (Ohms)","Voltage Last Device"]
[{"$f":"IF(Circuits!B5<>\"\",Circuits!B5, \"\")","v":""},{"$f":"Circuits!C5","v":0},{"$f":"Circuits!D5","v":0},{"$f":"Circuits!E5","v":0},{"$f":"Circuits!F5","v":0},{"$f":"Circuits!G5","v":""},{"$f":"Circuits!H5","v":0},{"$f":"Circuits!I5","v":0},{"$f":"Circuits!J5","v":0}]
[{"$f":"IF(Circuits!B6<>\"\",Circuits!B6, \"\")","v":""},{"$f":"Circuits!C6","v":0},{"$f":"Circuits!D6","v":0},{"$f":"Circuits!E6","v":0},{"$f":"Circuits!F6","v":0},{"$f":"Circuits!G6","v":""},{"$f":"Circuits!H6","v":0},{"$f":"Circuits!I6","v":0},{"$f":"Circuits!J6","v":0}]
[{"$f":"IF(Circuits!B7<>\"\",Circuits!B7, \"\")","v":""},{"$f":"Circuits!C7","v":0},{"$f":"Circuits!D7","v":0},{"$f":"Circuits!E7","v":0},{"$f":"Circuits!F7","v":0},{"$f":"Circuits!G7","v":""},{"$f":"Circuits!H7","v":0},{"$f":"Circuits!I7","v":0},{"$f":"Circuits!J7","v":0}]
[{"$f":"IF(Circuits!B8<>\"\",Circuits!B8, \"\")","v":""},{"$f":"Circuits!C8","v":0},{"$f":"Circuits!D8","v":0},{"$f":"Circuits!E8","v":0},{"$f":"Circuits!F8","v":0},{"$f":"Circuits!G8","v":""},{"$f":"Circuits!H8","v":0},{"$f":"Circuits!I8","v":0},{"$f":"Circuits!J8","v":0}]
[{"$f":"IF(Circuits!B9<>\"\",Circuits!B9, \"\")","v":""},{"$f":"Circuits!C9","v":0},{"$f":"Circuits!D9","v":0},{"$f":"Circuits!E9","v":0},{"$f":"Circuits!F9","v":0},{"$f":"Circuits!G9","v":""},{"$f":"Circuits!H9","v":0},{"$f":"Circuits!I9","v":0},{"$f":"Circuits!J9","v":0}]
[{"$f":"IF(Circuits!B10<>\"\",Circuits!B10, \"\")","v":""},{"$f":"Circuits!C10","v":0},{"$f":"Circuits!D10","v":0},{"$f":"Circuits!E10","v":0},{"$f":"Circuits!F10","v":0},{"$f":"Circuits!G10","v":""},{"$f":"Circuits!H10","v":0},{"$f":"Circuits!I10","v":0},{"$f":"Circuits!J10","v":0}]
[{"$f":"IF(Circuits!B11<>\"\",Circuits!B11, \"\")","v":""},{"$f":"Circuits!C11","v":0},{"$f":"Circuits!D11","v":0},{"$f":"Circuits!E11","v":0},{"$f":"Circuits!F11","v":0},{"$f":"Circuits!G11","v":""},{"$f":"Circuits!H11","v":0},{"$f":"Circuits!I11","v":0},{"$f":"Circuits!J11","v":0}]
[{"$f":"IF(Circuits!B12<>\"\",Circuits!B12, \"\")","v":""},{"$f":"Circuits!C12","v":0},{"$f":"Circuits!D12","v":0},{"$f":"Circuits!E12","v":0},{"$f":"Circuits!F12","v":0},{"$f":"Circuits!G12","v":""},{"$f":"Circuits!H12","v":0},{"$f":"Circuits!I12","v":0},{"$f":"Circuits!J12","v":0}]
[{"$f":"IF(Circuits!B13<>\"\",Circuits!B13, \"\")","v":""},{"$f":"Circuits!C13","v":0},{"$f":"Circuits!D13","v":0},{"$f":"Circuits!E13","v":0},{"$f":"Circuits!F13","v":0},{"$f":"Circuits!G13","v":""},{"$f":"Circuits!H13","v":0},{"$f":"Circuits!I13","v":0},{"$f":"Circuits!J13","v":0}]
[{"$f":"IF(Circuits!B14<>\"\",Circuits!B14, \"\")","v":""},{"$f":"Circuits!C14","v":0},{"$f":"Circuits!D14","v":0},{"$f":"Circuits!E14","v":0},{"$f":"Circuits!F14","v":0},{"$f":"Circuits!G14","v":""},{"$f":"Circuits!H14","v":0},{"$f":"Circuits!I14","v":0},{"$f":"Circuits!J14","v":0}]
[{"$f":"IF(Circuits!B15<>\"\",Circuits!B15, \"\")","v":""},{"$f":"Circuits!C15","v":0},{"$f":"Circuits!D15","v":0},{"$f":"Circuits!E15","v":0},{"$f":"Circuits!F15","v":0},{"$f":"Circuits!G15","v":""},{"$f":"Circuits!H15","v":0},{"$f":"Circuits!I15","v":0},{"$f":"Circuits!J15","v":0}]
[{"$f":"IF(Circuits!B16<>\"\",Circuits!B16, \"\")","v":""},{"$f":"Circuits!C16","v":0},{"$f":"Circuits!D16","v":0},{"$f":"Circuits!E16","v":0},{"$f":"Circuits!F16","v":0},{"$f":"Circuits!G16","v":""},{"$f":"Circuits!H16","v":0},{"$f":"Circuits!I16","v":0},{"$f":"Circuits!J16","v":0}]
[{"$f":"IF(Circuits!B17<>\"\",Circuits!B17, \"\")","v":""},{"$f":"Circuits!C17","v":0},{"$f":"Circuits!D17","v":0},{"$f":"Circuits!E17","v":0},{"$f":"Circuits!F17","v":0},{"$f":"Circuits!G17","v":""},{"$f":"Circuits!H17","v":0},{"$f":"Circuits!I17","v":0},{"$f":"Circuits!J17","v":0}]
[{"$f":"IF(Circuits!B18<>\"\",Circuits!B18, \"\")","v":""},{"$f":"Circuits!C18","v":0},{"$f":"Circuits!D18","v":0},{"$f":"Circuits!E18","v":0},{"$f":"Circuits!F18","v":0},{"$f":"Circuits!G18","v":""},{"$f":"Circuits!H18","v":0},{"$f":"Circuits!I18","v":0},{"$f":"Circuits!J18","v":0}]
[{"$f":"IF(Circuits!B19<>\"\",Circuits!B19, \"\")","v":""},{"$f":"Circuits!C19","v":0},{"$f":"Circuits!D19","v":0},{"$f":"Circuits!E19","v":0},{"$f":"Circuits!F19","v":0},{"$f":"Circuits!G19","v":""},{"$f":"Circuits!H19","v":0},{"$f":"Circuits!I19","v":0},{"$f":"Circuits!J19","v":0}]
[{"$f":"IF(Circuits!B20<>\"\",Circuits!B20, \"\")","v":""},{"$f":"Circuits!C20","v":0},{"$f":"Circuits!D20","v":0},{"$f":"Circuits!E20","v":0},{"$f":"Circuits!F20","v":0},{"$f":"Circuits!G20","v":""},{"$f":"Circuits!H20","v":0},{"$f":"Circuits!I20","v":0},{"$f":"Circuits!J20","v":0}]
[{"$f":"IF(Circuits!B21<>\"\",Circuits!B21, \"\")","v":""},{"$f":"Circuits!C21","v":0},{"$f":"Circuits!D21","v":0},{"$f":"Circuits!E21","v":0},{"$f":"Circuits!F21","v":0},{"$f":"Circuits!G21","v":""},{"$f":"Circuits!H21","v":0},{"$f":"Circuits!I21","v":0},{"$f":"Circuits!J21","v":0}]
[{"$f":"IF(Circuits!B22<>\"\",Circuits!B22, \"\")","v":""},{"$f":"Circuits!C22","v":0},{"$f":"Circuits!D22","v":0},{"$f":"Circuits!E22","v":0},{"$f":"Circuits!F22","v":0},{"$f":"Circuits!G22","v":""},{"$f":"Circuits!H22","v":0},{"$f":"Circuits!I22","v":0},{"$f":"Circuits!J22","v":0}]
[{"$f":"IF(Circuits!B23<>\"\",Circuits!B23, \"\")","v":""},{"$f":"Circuits!C23","v":0},{"$f":"Circuits!D23","v":0},{"$f":"Circuits!E23","v":0},{"$f":"Circuits!F23","v":0},{"$f":"Circuits!G23","v":""},{"$f":"Circuits!H23","v":0},{"$f":"Circuits!I23","v":0},{"$f":"Circuits!J23","v":0}]
[{"$f":"IF(Circuits!B24<>\"\",Circuits!B24, \"\")","v":""},{"$f":"Circuits!C24","v":0},{"$f":"Circuits!D24","v":0},{"$f":"Circuits!E24","v":0},{"$f":"Circuits!F24","v":0},{"$f":"Circuits!G24","v":""},{"$f":"Circuits!H24","v":0},{"$f":"Circuits!I24","v":0},{"$f":"Circuits!J24","v":0}]
[]
["Notes:"]
["1.) Wire resistance is taken from Chapter 9 Table 8 of the National Electric Code (NFPA70). Resistance shown is calculated at 75 degrees Centigrade (167 degrees Farenheit)"]
["2.) Formula used for calculation:",null,"Total Resistance = (Length x 2) / 1000 x Ohms Per 1000 Ft."]
[null,null,"Voltage Last Device = Supply Voltage - (Alarm Current x Total Resistance)"]
["3.) Calculations are based on average current draw of devices using a regulated power supply only."]

{"sheet":"Device Report","index":5,"n_rows":247,"n_cols":6,"rows_kept":247,"cut":false,"hidden":true,"merged":[[5,3,6,3],[0,0,0,1],[1,0,1,1],[2,0,2,1],[3,0,3,1],[4,0,4,1]]}
[{"$f":"Data!B6","v":0}]
[{"$f":"Data!B7","v":0},null,null,{"$f":"\"Project Name: \"&Data!B1","v":"Project Name: "}]
[{"$f":"Data!B8&\", \"&Data!B9&\", \"&Data!B10","v":", , "},null,null,{"$f":"\"Project Number: \"&Data!B2","v":"Project Number: "}]
[{"$f":"Data!B11&\" Phone\"","v":" Phone"},null,null,{"$f":"\"Designer: \"&Data!B4","v":"Designer: "}]
[{"$f":"Data!B12&\" Fax\"","v":" Fax"},null,null,{"$f":"\"Date: \"&Data!B3","v":"Date: "}]
[null,null,null,"Circuit Devices"]
[]
["Circuit Number","Circuit Name","Qty.","Device","Current Each (Amps)","Current Total (Amps)"]
[{"$f":"Circuits!B5","v":0},{"$f":"Circuits!C5","v":0},{"$f":"Devices!B36","v":0},{"$f":"Devices!C36","v":0},{"$f":"Devices!D36","v":0},{"$f":"Devices!E36","v":0}]
[{"$f":"IF(F9>0,\"\",Circuits!B5)","v":0},{"$f":"IF(F9>0,\"\",Circuits!$C$5)","v":0},{"$f":"Devices!B37","v":0},{"$f":"Devices!C37","v":0},{"$f":"Devices!D37","v":0},{"$f":"Devices!E37","v":0}]
[{"$f":"IF(SUM(F9:F10)>0,\"\",Circuits!$B$5)","v":0},{"$f":"IF(SUM(F9:F10)>0,\"\",Circuits!$C$5)","v":0},{"$f":"Devices!B38","v":0},{"$f":"Devices!C38","v":0},{"$f":"Devices!D38","v":0},{"$f":"Devices!E38","v":0}]
[{"$f":"IF(SUM(F9:F11)>0,\"\",Circuits!$B$5)","v":0},{"$f":"IF(SUM(F9:F11)>0,\"\",Circuits!$C$5)","v":0},{"$f":"Devices!B39","v":0},{"$f":"Devices!C39","v":0},{"$f":"Devices!D39","v":0},{"$f":"Devices!E39","v":0}]
[{"$f":"IF(SUM(F9:F12)>0,\"\",Circuits!$B$5)","v":0},{"$f":"IF(SUM(F9:F12)>0,\"\",Circuits!$C$5)","v":0},{"$f":"Devices!B40","v":0},{"$f":"Devices!C40","v":0},{"$f":"Devices!D40","v":0},{"$f":"Devices!E40","v":0}]
[{"$f":"IF(SUM(F9:F13)>0,\"\",Circuits!$B$5)","v":0},{"$f":"IF(SUM(F9:F13)>0,\"\",Circuits!$C$5)","v":0},{"$f":"Devices!B41","v":0},{"$f":"Devices!C41","v":0},{"$f":"Devices!D41","v":0},{"$f":"Devices!E41","v":0}]
[{"$f":"IF(SUM(F9:F14)>0,\"\",Circuits!$B$5)","v":0},{"$f":"IF(SUM(F9:F14)>0,\"\",Circuits!$C$5)","v":0},{"$f":"Devices!B42","v":0},{"$f":"Devices!C42","v":0},{"$f":"Devices!D42","v":0},{"$f":"Devices!E42","v":0}]
[{"$f":"IF(SUM(F9:F15)>0,\"\",Circuits!$B$5)","v":0},{"$f":"IF(SUM(F9:F15)>0,\"\",Circuits!$C$5)","v":0},{"$f":"Devices!B43","v":0},{"$f":"Devices!C43","v":0},{"$f":"Devices!D43","v":0},{"$f":"Devices!E43","v":0}]
[{"$f":"IF(SUM(F9:F16)>0,\"\",Circuits!$B$5)","v":0},{"$f":"IF(SUM(F9:F16)>0,\"\",Circuits!$C$5)","v":0},{"$f":"Devices!B44","v":0},{"$f":"Devices!C44","v":0},{"$f":"Devices!D44","v":0},{"$f":"Devices!E44","v":0}]
[{"$f":"IF(SUM(F9:F17)>0,\"\",Circuits!$B$5)","v":0},{"$f":"IF(SUM(F9:F17)>0,\"\",Circuits!$C$5)","v":0},{"$f":"Devices!B45","v":0},{"$f":"Devices!C45","v":0},{"$f":"Devices!D45","v":0},{"$f":"Devices!E45","v":0}]
[null,null,null,null,"Total Circuit Current:",{"$f":"Circuits!E5","v":0}]
[]
[{"$f":"Circuits!B6","v":""},{"$f":"Circuits!C6","v":0},{"$f":"Devices!B66","v":0},{"$f":"Devices!C66","v":0},{"$f":"Devices!D66","v":0},{"$f":"Devices!E66","v":0}]
[{"$f":"IF(F21>0,\"\",Circuits!B6)","v":""},{"$f":"IF(F21>0,\"\",Circuits!$C$6)","v":0},{"$f":"Devices!B67","v":0},{"$f":"Devices!C67","v":0},{"$f":"Devices!D67","v":0},{"$f":"Devices!E67","v":0}]
[{"$f":"IF(SUM(F21:F22)>0,\"\",Circuits!$B$6)","v":""},{"$f":"IF(SUM(F21:F22)>0,\"\",Circuits!$C$6)","v":0},{"$f":"Devices!B68","v":0},{"$f":"Devices!C68","v":0},{"$f":"Devices!D68","v":0},{"$f":"Devices!E68","v":0}]
[{"$f":"IF(SUM(F21:F23)>0,\"\",Circuits!$B$6)","v":""},{"$f":"IF(SUM(F21:F23)>0,\"\",Circuits!$C$6)","v":0},{"$f":"Devices!B69","v":0},{"$f":"Devices!C69","v":0},{"$f":"Devices!D69","v":0},{"$f":"Devices!E69","v":0}]
[{"$f":"IF(SUM(F21:F24)>0,\"\",Circuits!$B$6)","v":""},{"$f":"IF(SUM(F21:F24)>0,\"\",Circuits!$C$6)","v":0},{"$f":"Devices!B70","v":0},{"$f":"Devices!C70","v":0},{"$f":"Devices!D70","v":0},{"$f":"Devices!E70","v":0}]
[{"$f":"IF(SUM(F21:F25)>0,\"\",Circuits!$B$6)","v":""},{"$f":"IF(SUM(F21:F25)>0,\"\",Circuits!$C$6)","v":0},{"$f":"Devices!B71","v":0},{"$f":"Devices!C71","v":0},{"$f":"Devices!D71","v":0},{"$f":"Devices!E71","v":0}]
[{"$f":"IF(SUM(F21:F26)>0,\"\",Circuits!$B$6)","v":""},{"$f":"IF(SUM(F21:F26)>0,\"\",Circuits!$C$6)","v":0},{"$f":"Devices!B72","v":0},{"$f":"Devices!C72","v":0},{"$f":"Devices!D72","v":0},{"$f":"Devices!E72","v":0}]
[{"$f":"IF(SUM(F21:F27)>0,\"\",Circuits!$B$6)","v":""},{"$f":"IF(SUM(F21:F27)>0,\"\",Circuits!$C$6)","v":0},{"$f":"Devices!B73","v":0},{"$f":"Devices!C73","v":0},{"$f":"Devices!D73","v":0},{"$f":"Devices!E73","v":0}]
[{"$f":"IF(SUM(F21:F28)>0,\"\",Circuits!$B$6)","v":""},{"$f":"IF(SUM(F21:F28)>0,\"\",Circuits!$C$6)","v":0},{"$f":"Devices!B74","v":0},{"$f":"Devices!C74","v":0},{"$f":"Devices!D74","v":0},{"$f":"Devices!E74","v":0}]
[{"$f":"IF(SUM(F21:F29)>0,\"\",Circuits!$B$6)","v":""},{"$f":"IF(SUM(F21:F29)>0,\"\",Circuits!$C$6)","v":0},{"$f":"Devices!B75","v":0},{"$f":"Devices!C75","v":0},{"$f":"Devices!D75","v":0},{"$f":"Devices!E75","v":0}]
[null,null,null,null,"Total Circuit Current:",{"$f":"Circuits!E6","v":0}]
[]
[{"$f":"Circuits!B7","v":""},{"$f":"Circuits!C7","v":0},{"$f":"Devices!B96","v":0},{"$f":"Devices!C96","v":0},{"$f":"Devices!D96","v":0},{"$f":"Devices!E96","v":0}]
[{"$f":"IF(F33>0,\"\",Circuits!B7)","v":""},{"$f":"IF(F33>0,\"\",Circuits!$C$7)","v":0},{"$f":"Devices!B97","v":0},{"$f":"Devices!C97","v":0},{"$f":"Devices!D97","v":0},{"$f":"Devices!E97","v":0}]
[{"$f":"IF(SUM(F33:F34)>0,\"\",Circuits!$B$7)","v":""},{"$f":"IF(SUM(F33:F34)>0,\"\",Circuits!$C$7)","v":0},{"$f":"Devices!B98","v":0},{"$f":"Devices!C98","v":0},{"$f":"Devices!D98","v":0},{"$f":"Devices!E98","v":0}]
[{"$f":"IF(SUM(F33:F35)>0,\"\",Circuits!$B$7)","v":""},{"$f":"IF(SUM(F33:F35)>0,\"\",Circuits!$C$7)","v":0},{"$f":"Devices!B99","v":0},{"$f":"Devices!C99","v":0},{"$f":"Devices!D99","v":0},{"$f":"Devices!E99","v":0}]
[{"$f":"IF(SUM(F33:F36)>0,\"\",Circuits!$B$7)","v":""},{"$f":"IF(SUM(F33:F36)>0,\"\",Circuits!$C$7)","v":0},{"$f":"Devices!B100","v":0},{"$f":"Devices!C100","v":0},{"$f":"Devices!D100","v":0},{"$f":"Devices!E100","v":0}]
[{"$f":"IF(SUM(F33:F37)>0,\"\",Circuits!$B$7)","v":""},{"$f":"IF(SUM(F33:F37)>0,\"\",Circuits!$C$7)","v":0},{"$f":"Devices!B101","v":0},{"$f":"Devices!C101","v":0},{"$f":"Devices!D101","v":0},{"$f":"Devices!E101","v":0}]
[{"$f":"IF(SUM(F33:F38)>0,\"\",Circuits!$B$7)","v":""},{"$f":"IF(SUM(F33:F38)>0,\"\",Circuits!$C$7)","v":0},{"$f":"Devices!B102","v":0},{"$f":"Devices!C102","v":0},{"$f":"Devices!D102","v":0},{"$f":"Devices!E102","v":0}]
[{"$f":"IF(SUM(F33:F39)>0,\"\",Circuits!$B$7)","v":""},{"$f":"IF(SUM(F33:F39)>0,\"\",Circuits!$C$7)","v":0},{"$f":"Devices!B103","v":0},{"$f":"Devices!C103","v":0},{"$f":"Devices!D103","v":0},{"$f":"Devices!E103","v":0}]
[{"$f":"IF(SUM(F33:F40)>0,\"\",Circuits!$B$7)","v":""},{"$f":"IF(SUM(F33:F40)>0,\"\",Circuits!$C$7)","v":0},{"$f":"Devices!B104","v":0},{"$f":"Devices!C104","v":0},{"$f":"Devices!D104","v":0},{"$f":"Devices!E104","v":0}]
[{"$f":"IF(SUM(F33:F41)>0,\"\",Circuits!$B$7)","v":""},{"$f":"IF(SUM(F33:F41)>0,\"\",Circuits!$C$7)","v":0},{"$f":"Devices!B105","v":0},{"$f":"Devices!C105","v":0},{"$f":"Devices!D105","v":0},{"$f":"Devices!E105","v":0}]
[null,null,null,null,"Total Circuit Current:",{"$f":"Circuits!E7","v":0}]
[]
[{"$f":"Circuits!B8","v":""},{"$f":"Circuits!C8","v":0},{"$f":"Devices!B126","v":0},{"$f":"Devices!C126","v":0},{"$f":"Devices!D126","v":0},{"$f":"Devices!E126","v":0}]
[{"$f":"IF(F45>0,\"\",Circuits!B8)","v":""},{"$f":"IF(F45>0,\"\",Circuits!$C$8)","v":0},{"$f":"Devices!B127","v":0},{"$f":"Devices!C127","v":0},{"$f":"Devices!D127","v":0},{"$f":"Devices!E127","v":0}]
[{"$f":"IF(SUM(F45:F46)>0,\"\",Circuits!$B$8)","v":""},{"$f":"IF(SUM(F45:F46)>0,\"\",Circuits!$C$8)","v":0},{"$f":"Devices!B128","v":0},{"$f":"Devices!C128","v":0},{"$f":"Devices!D128","v":0},{"$f":"Devices!E128","v":0}]
[{"$f":"IF(SUM(F45:F47)>0,\"\",Circuits!$B$8)","v":""},{"$f":"IF(SUM(F45:F47)>0,\"\",Circuits!$C$8)","v":0},{"$f":"Devices!B129","v":0},{"$f":"Devices!C129","v":0},{"$f":"Devices!D129","v":0},{"$f":"Devices!E129","v":0}]
[{"$f":"IF(SUM(F45:F48)>0,\"\",Circuits!$B$8)","v":""},{"$f":"IF(SUM(F45:F48)>0,\"\",Circuits!$C$8)","v":0},{"$f":"Devices!B130","v":0},{"$f":"Devices!C130","v":0},{"$f":"Devices!D130","v":0},{"$f":"Devices!E130","v":0}]
[{"$f":"IF(SUM(F45:F49)>0,\"\",Circuits!$B$8)","v":""},{"$f":"IF(SUM(F45:F49)>0,\"\",Circuits!$C$8)","v":0},{"$f":"Devices!B131","v":0},{"$f":"Devices!C131","v":0},{"$f":"Devices!D131","v":0},{"$f":"Devices!E131","v":0}]
[{"$f":"IF(SUM(F45:F50)>0,\"\",Circuits!$B$8)","v":""},{"$f":"IF(SUM(F45:F50)>0,\"\",Circuits!$C$8)","v":0},{"$f":"Devices!B132","v":0},{"$f":"Devices!C132","v":0},{"$f":"Devices!D132","v":0},{"$f":"Devices!E132","v":0}]
[{"$f":"IF(SUM(F45:F51)>0,\"\",Circuits!$B$8)","v":""},{"$f":"IF(SUM(F45:F51)>0,\"\",Circuits!$C$8)","v":0},{"$f":"Devices!B133","v":0},{"$f":"Devices!C133","v":0},{"$f":"Devices!D133","v":0},{"$f":"Devices!E133","v":0}]
[{"$f":"IF(SUM(F45:F52)>0,\"\",Circuits!$B$8)","v":""},{"$f":"IF(SUM(F45:F52)>0,\"\",Circuits!$C$8)","v":0},{"$f":"Devices!B134","v":0},{"$f":"Devices!C134","v":0},{"$f":"Devices!D134","v":0},{"$f":"Devices!E134","v":0}]
[{"$f":"IF(SUM(F45:F53)>0,\"\",Circuits!$B$8)","v":""},{"$f":"IF(SUM(F45:F53)>0,\"\",Circuits!$C$8)","v":0},{"$f":"Devices!B135","v":0},{"$f":"Devices!C135","v":0},{"$f":"Devices!D135","v":0},{"$f":"Devices!E135","v":0}]
[null,null,null,null,"Total Circuit Current:",{"$f":"Circuits!E8","v":0}]
[]
[{"$f":"Circuits!B9","v":""},{"$f":"Circuits!C9","v":0},{"$f":"Devices!B156","v":0},{"$f":"Devices!C156","v":0},{"$f":"Devices!D156","v":0},{"$f":"Devices!E156","v":0}]
[{"$f":"IF(F57>0,\"\",Circuits!B9)","v":""},{"$f":"IF(F57>0,\"\",Circuits!$C$9)","v":0},{"$f":"Devices!B157","v":0},{"$f":"Devices!C157","v":0},{"$f":"Devices!D157","v":0},{"$f":"Devices!E157","v":0}]
[{"$f":"IF(SUM(F57:F58)>0,\"\",Circuits!$B$9)","v":""},{"$f":"IF(SUM(F57:F58)>0,\"\",Circuits!$C$9)","v":0},{"$f":"Devices!B158","v":0},{"$f":"Devices!C158","v":0},{"$f":"Devices!D158","v":0},{"$f":"Devices!E158","v":0}]
[{"$f":"IF(SUM(F57:F59)>0,\"\",Circuits!$B$9)","v":""},{"$f":"IF(SUM(F57:F59)>0,\"\",Circuits!$C$9)","v":0},{"$f":"Devices!B159","v":0},{"$f":"Devices!C159","v":0},{"$f":"Devices!D159","v":0},{"$f":"Devices!E159","v":0}]
[{"$f":"IF(SUM(F57:F60)>0,\"\",Circuits!$B$9)","v":""},{"$f":"IF(SUM(F57:F60)>0,\"\",Circuits!$C$9)","v":0},{"$f":"Devices!B160","v":0},{"$f":"Devices!C160","v":0},{"$f":"Devices!D160","v":0},{"$f":"Devices!E160","v":0}]
[{"$f":"IF(SUM(F57:F61)>0,\"\",Circuits!$B$9)","v":""},{"$f":"IF(SUM(F57:F61)>0,\"\",Circuits!$C$9)","v":0},{"$f":"Devices!B161","v":0},{"$f":"Devices!C161","v":0},{"$f":"Devices!D161","v":0},{"$f":"Devices!E161","v":0}]
[{"$f":"IF(SUM(F57:F62)>0,\"\",Circuits!$B$9)","v":""},{"$f":"IF(SUM(F57:F62)>0,\"\",Circuits!$C$9)","v":0},{"$f":"Devices!B162","v":0},{"$f":"Devices!C162","v":0},{"$f":"Devices!D162","v":0},{"$f":"Devices!E162","v":0}]
[{"$f":"IF(SUM(F57:F63)>0,\"\",Circuits!$B$9)","v":""},{"$f":"IF(SUM(F57:F63)>0,\"\",Circuits!$C$9)","v":0},{"$f":"Devices!B163","v":0},{"$f":"Devices!C163","v":0},{"$f":"Devices!D163","v":0},{"$f":"Devices!E163","v":0}]
[{"$f":"IF(SUM(F57:F64)>0,\"\",Circuits!$B$9)","v":""},{"$f":"IF(SUM(F57:F64)>0,\"\",Circuits!$C$9)","v":0},{"$f":"Devices!B164","v":0},{"$f":"Devices!C164","v":0},{"$f":"Devices!D164","v":0},{"$f":"Devices!E164","v":0}]
[{"$f":"IF(SUM(F57:F65)>0,\"\",Circuits!$B$9)","v":""},{"$f":"IF(SUM(F57:F65)>0,\"\",Circuits!$C$9)","v":0},{"$f":"Devices!B165","v":0},{"$f":"Devices!C165","v":0},{"$f":"Devices!D165","v":0},{"$f":"Devices!E165","v":0}]
[null,null,null,null,"Total Circuit Current:",{"$f":"Circuits!E9","v":0}]
[]
[{"$f":"Circuits!B10","v":""},{"$f":"Circuits!C10","v":0},{"$f":"Devices!B186","v":0},{"$f":"Devices!C186","v":0},{"$f":"Devices!D186","v":0},{"$f":"Devices!E186","v":0}]
[{"$f":"IF(F69>0,\"\",Circuits!B10)","v":""},{"$f":"IF(F69>0,\"\",Circuits!$C$10)","v":0},{"$f":"Devices!B187","v":0},{"$f":"Devices!C187","v":0},{"$f":"Devices!D187","v":0},{"$f":"Devices!E187","v":0}]
[{"$f":"IF(SUM(F69:F70)>0,\"\",Circuits!$B$10)","v":""},{"$f":"IF(SUM(F69:F70)>0,\"\",Circuits!$C$10)","v":0},{"$f":"Devices!B188","v":0},{"$f":"Devices!C188","v":0},{"$f":"Devices!D188","v":0},{"$f":"Devices!E188","v":0}]
[{"$f":"IF(SUM(F69:F71)>0,\"\",Circuits!$B$10)","v":""},{"$f":"IF(SUM(F69:F71)>0,\"\",Circuits!$C$10)","v":0},{"$f":"Devices!B189","v":0},{"$f":"Devices!C189","v":0},{"$f":"Devices!D189","v":0},{"$f":"Devices!E189","v":0}]
[{"$f":"IF(SUM(F69:F72)>0,\"\",Circuits!$B$10)","v":""},{"$f":"IF(SUM(F69:F72)>0,\"\",Circuits!$C$10)","v":0},{"$f":"Devices!B190","v":0},{"$f":"Devices!C190","v":0},{"$f":"Devices!D190","v":0},{"$f":"Devices!E190","v":0}]
[{"$f":"IF(SUM(F69:F73)>0,\"\",Circuits!$B$10)","v":""},{"$f":"IF(SUM(F69:F73)>0,\"\",Circuits!$C$10)","v":0},{"$f":"Devices!B191","v":0},{"$f":"Devices!C191","v":0},{"$f":"Devices!D191","v":0},{"$f":"Devices!E191","v":0}]
[{"$f":"IF(SUM(F69:F74)>0,\"\",Circuits!$B$10)","v":""},{"$f":"IF(SUM(F69:F74)>0,\"\",Circuits!$C$10)","v":0},{"$f":"Devices!B192","v":0},{"$f":"Devices!C192","v":0},{"$f":"Devices!D192","v":0},{"$f":"Devices!E192","v":0}]
[{"$f":"IF(SUM(F69:F75)>0,\"\",Circuits!$B$10)","v":""},{"$f":"IF(SUM(F69:F75)>0,\"\",Circuits!$C$10)","v":0},{"$f":"Devices!B193","v":0},{"$f":"Devices!C193","v":0},{"$f":"Devices!D193","v":0},{"$f":"Devices!E193","v":0}]
[{"$f":"IF(SUM(F69:F76)>0,\"\",Circuits!$B$10)","v":""},{"$f":"IF(SUM(F69:F76)>0,\"\",Circuits!$C$10)","v":0},{"$f":"Devices!B194","v":0},{"$f":"Devices!C194","v":0},{"$f":"Devices!D194","v":0},{"$f":"Devices!E194","v":0}]
[{"$f":"IF(SUM(F69:F77)>0,\"\",Circuits!$B$10)","v":""},{"$f":"IF(SUM(F69:F77)>0,\"\",Circuits!$C$10)","v":0},{"$f":"Devices!B195","v":0},{"$f":"Devices!C195","v":0},{"$f":"Devices!D195","v":0},{"$f":"Devices!E195","v":0}]
[null,null,null,null,"Total Circuit Current:",{"$f":"Circuits!E10","v":0}]
[]
[{"$f":"Circuits!B11","v":""},{"$f":"Circuits!C11","v":0},{"$f":"Devices!B216","v":0},{"$f":"Devices!C216","v":0},{"$f":"Devices!D216","v":0},{"$f":"Devices!E216","v":0}]
[{"$f":"IF(F81>0,\"\",Circuits!B11)","v":""},{"$f":"IF(F81>0,\"\",Circuits!$C$11)","v":0},{"$f":"Devices!B217","v":0},{"$f":"Devices!C217","v":0},{"$f":"Devices!D217","v":0},{"$f":"Devices!E217","v":0}]
[{"$f":"IF(SUM(F81:F82)>0,\"\",Circuits!$B$11)","v":""},{"$f":"IF(SUM(F81:F82)>0,\"\",Circuits!$C$11)","v":0},{"$f":"Devices!B218","v":0},{"$f":"Devices!C218","v":0},{"$f":"Devices!D218","v":0},{"$f":"Devices!E218","v":0}]
[{"$f":"IF(SUM(F81:F83)>0,\"\",Circuits!$B$11)","v":""},{"$f":"IF(SUM(F81:F83)>0,\"\",Circuits!$C$11)","v":0},{"$f":"Devices!B219","v":0},{"$f":"Devices!C219","v":0},{"$f":"Devices!D219","v":0},{"$f":"Devices!E219","v":0}]
[{"$f":"IF(SUM(F81:F84)>0,\"\",Circuits!$B$11)","v":""},{"$f":"IF(SUM(F81:F84)>0,\"\",Circuits!$C$11)","v":0},{"$f":"Devices!B220","v":0},{"$f":"Devices!C220","v":0},{"$f":"Devices!D220","v":0},{"$f":"Devices!E220","v":0}]
[{"$f":"IF(SUM(F81:F85)>0,\"\",Circuits!$B$11)","v":""},{"$f":"IF(SUM(F81:F85)>0,\"\",Circuits!$C$11)","v":0},{"$f":"Devices!B221","v":0},{"$f":"Devices!C221","v":0},{"$f":"Devices!D221","v":0},{"$f":"Devices!E221","v":0}]
[{"$f":"IF(SUM(F81:F86)>0,\"\",Circuits!$B$11)","v":""},{"$f":"IF(SUM(F81:F86)>0,\"\",Circuits!$C$11)","v":0},{"$f":"Devices!B222","v":0},{"$f":"Devices!C222","v":0},{"$f":"Devices!D222","v":0},{"$f":"Devices!E222","v":0}]
[{"$f":"IF(SUM(F81:F87)>0,\"\",Circuits!$B$11)","v":""},{"$f":"IF(SUM(F81:F87)>0,\"\",Circuits!$C$11)","v":0},{"$f":"Devices!B223","v":0},{"$f":"Devices!C223","v":0},{"$f":"Devices!D223","v":0},{"$f":"Devices!E223","v":0}]
[{"$f":"IF(SUM(F81:F88)>0,\"\",Circuits!$B$11)","v":""},{"$f":"IF(SUM(F81:F88)>0,\"\",Circuits!$C$11)","v":0},{"$f":"Devices!B224","v":0},{"$f":"Devices!C224","v":0},{"$f":"Devices!D224","v":0},{"$f":"Devices!E224","v":0}]
[{"$f":"IF(SUM(F81:F89)>0,\"\",Circuits!$B$11)","v":""},{"$f":"IF(SUM(F81:F89)>0,\"\",Circuits!$C$11)","v":0},{"$f":"Devices!B225","v":0},{"$f":"Devices!C225","v":0},{"$f":"Devices!D225","v":0},{"$f":"Devices!E225","v":0}]
[null,null,null,null,"Total Circuit Current:",{"$f":"Circuits!E11","v":0}]
[]
[{"$f":"Circuits!B12","v":""},{"$f":"Circuits!C12","v":0},{"$f":"Devices!B246","v":0},{"$f":"Devices!C246","v":0},{"$f":"Devices!D246","v":0},{"$f":"Devices!E246","v":0}]
[{"$f":"IF(F93>0,\"\",Circuits!B12)","v":""},{"$f":"IF(F93>0,\"\",Circuits!$C$12)","v":0},{"$f":"Devices!B247","v":0},{"$f":"Devices!C247","v":0},{"$f":"Devices!D247","v":0},{"$f":"Devices!E247","v":0}]
[{"$f":"IF(SUM(F93:F94)>0,\"\",Circuits!$B$12)","v":""},{"$f":"IF(SUM(F93:F94)>0,\"\",Circuits!$C$12)","v":0},{"$f":"Devices!B248","v":0},{"$f":"Devices!C248","v":0},{"$f":"Devices!D248","v":0},{"$f":"Devices!E248","v":0}]
[{"$f":"IF(SUM(F93:F95)>0,\"\",Circuits!$B$12)","v":""},{"$f":"IF(SUM(F93:F95)>0,\"\",Circuits!$C$12)","v":0},{"$f":"Devices!B249","v":0},{"$f":"Devices!C249","v":0},{"$f":"Devices!D249","v":0},{"$f":"Devices!E249","v":0}]
[{"$f":"IF(SUM(F93:F96)>0,\"\",Circuits!$B$12)","v":""},{"$f":"IF(SUM(F93:F96)>0,\"\",Circuits!$C$12)","v":0},{"$f":"Devices!B250","v":0},{"$f":"Devices!C250","v":0},{"$f":"Devices!D250","v":0},{"$f":"Devices!E250","v":0}]
[{"$f":"IF(SUM(F93:F97)>0,\"\",Circuits!$B$12)","v":""},{"$f":"IF(SUM(F93:F97)>0,\"\",Circuits!$C$12)","v":0},{"$f":"Devices!B251","v":0},{"$f":"Devices!C251","v":0},{"$f":"Devices!D251","v":0},{"$f":"Devices!E251","v":0}]
[{"$f":"IF(SUM(F93:F98)>0,\"\",Circuits!$B$12)","v":""},{"$f":"IF(SUM(F93:F98)>0,\"\",Circuits!$C$12)","v":0},{"$f":"Devices!B252","v":0},{"$f":"Devices!C252","v":0},{"$f":"Devices!D252","v":0},{"$f":"Devices!E252","v":0}]
[{"$f":"IF(SUM(F93:F99)>0,\"\",Circuits!$B$12)","v":""},{"$f":"IF(SUM(F93:F99)>0,\"\",Circuits!$C$12)","v":0},{"$f":"Devices!B253","v":0},{"$f":"Devices!C253","v":0},{"$f":"Devices!D253","v":0},{"$f":"Devices!E253","v":0}]
[{"$f":"IF(SUM(F93:F100)>0,\"\",Circuits!$B$12)","v":""},{"$f":"IF(SUM(F93:F100)>0,\"\",Circuits!$C$12)","v":0},{"$f":"Devices!B254","v":0},{"$f":"Devices!C254","v":0},{"$f":"Devices!D254","v":0},{"$f":"Devices!E254","v":0}]
[{"$f":"IF(SUM(F93:F101)>0,\"\",Circuits!$B$12)","v":""},{"$f":"IF(SUM(F93:F101)>0,\"\",Circuits!$C$12)","v":0},{"$f":"Devices!B255","v":0},{"$f":"Devices!C255","v":0},{"$f":"Devices!D255","v":0},{"$f":"Devices!E255","v":0}]
[null,null,null,null,"Total Circuit Current:",{"$f":"Circuits!E12","v":0}]
[]
[{"$f":"Circuits!B13","v":""},{"$f":"Circuits!C13","v":0},{"$f":"Devices!B276","v":0},{"$f":"Devices!C276","v":0},{"$f":"Devices!D276","v":0},{"$f":"Devices!E276","v":0}]
[{"$f":"IF(F105>0,\"\",Circuits!B13)","v":""},{"$f":"IF(F105>0,\"\",Circuits!$C$13)","v":0},{"$f":"Devices!B277","v":0},{"$f":"Devices!C277","v":0},{"$f":"Devices!D277","v":0},{"$f":"Devices!E277","v":0}]
[{"$f":"IF(SUM(F105:F106)>0,\"\",Circuits!$B$13)","v":""},{"$f":"IF(SUM(F105:F106)>0,\"\",Circuits!$C$13)","v":0},{"$f":"Devices!B278","v":0},{"$f":"Devices!C278","v":0},{"$f":"Devices!D278","v":0},{"$f":"Devices!E278","v":0}]
[{"$f":"IF(SUM(F105:F107)>0,\"\",Circuits!$B$13)","v":""},{"$f":"IF(SUM(F105:F107)>0,\"\",Circuits!$C$13)","v":0},{"$f":"Devices!B279","v":0},{"$f":"Devices!C279","v":0},{"$f":"Devices!D279","v":0},{"$f":"Devices!E279","v":0}]
[{"$f":"IF(SUM(F105:F108)>0,\"\",Circuits!$B$13)","v":""},{"$f":"IF(SUM(F105:F108)>0,\"\",Circuits!$C$13)","v":0},{"$f":"Devices!B280","v":0},{"$f":"Devices!C280","v":0},{"$f":"Devices!D280","v":0},{"$f":"Devices!E280","v":0}]
[{"$f":"IF(SUM(F105:F109)>0,\"\",Circuits!$B$13)","v":""},{"$f":"IF(SUM(F105:F109)>0,\"\",Circuits!$C$13)","v":0},{"$f":"Devices!B281","v":0},{"$f":"Devices!C281","v":0},{"$f":"Devices!D281","v":0},{"$f":"Devices!E281","v":0}]
[{"$f":"IF(SUM(F105:F110)>0,\"\",Circuits!$B$13)","v":""},{"$f":"IF(SUM(F105:F110)>0,\"\",Circuits!$C$13)","v":0},{"$f":"Devices!B282","v":0},{"$f":"Devices!C282","v":0},{"$f":"Devices!D282","v":0},{"$f":"Devices!E282","v":0}]
[{"$f":"IF(SUM(F105:F111)>0,\"\",Circuits!$B$13)","v":""},{"$f":"IF(SUM(F105:F111)>0,\"\",Circuits!$C$13)","v":0},{"$f":"Devices!B283","v":0},{"$f":"Devices!C283","v":0},{"$f":"Devices!D283","v":0},{"$f":"Devices!E283","v":0}]
[{"$f":"IF(SUM(F105:F112)>0,\"\",Circuits!$B$13)","v":""},{"$f":"IF(SUM(F105:F112)>0,\"\",Circuits!$C$13)","v":0},{"$f":"Devices!B284","v":0},{"$f":"Devices!C284","v":0},{"$f":"Devices!D284","v":0},{"$f":"Devices!E284","v":0}]
[{"$f":"IF(SUM(F105:F113)>0,\"\",Circuits!$B$13)","v":""},{"$f":"IF(SUM(F105:F113)>0,\"\",Circuits!$C$13)","v":0},{"$f":"Devices!B285","v":0},{"$f":"Devices!C285","v":0},{"$f":"Devices!D285","v":0},{"$f":"Devices!E285","v":0}]
[null,null,null,null,"Total Circuit Current:",{"$f":"Circuits!E13","v":0}]
[]
[{"$f":"Circuits!B14","v":""},{"$f":"Circuits!C14","v":0},{"$f":"Devices!B306","v":0},{"$f":"Devices!C306","v":0},{"$f":"Devices!D306","v":0},{"$f":"Devices!E306","v":0}]
[{"$f":"IF(F117>0,\"\",Circuits!B14)","v":""},{"$f":"IF(F117>0,\"\",Circuits!$C$14)","v":0},{"$f":"Devices!B307","v":0},{"$f":"Devices!C307","v":0},{"$f":"Devices!D307","v":0},{"$f":"Devices!E307","v":0}]
[{"$f":"IF(SUM(F117:F118)>0,\"\",Circuits!$B$14)","v":""},{"$f":"IF(SUM(F117:F118)>0,\"\",Circuits!$C$14)","v":0},{"$f":"Devices!B308","v":0},{"$f":"Devices!C308","v":0},{"$f":"Devices!D308","v":0},{"$f":"Devices!E308","v":0}]
[{"$f":"IF(SUM(F117:F119)>0,\"\",Circuits!$B$14)","v":""},{"$f":"IF(SUM(F117:F119)>0,\"\",Circuits!$C$14)","v":0},{"$f":"Devices!B309","v":0},{"$f":"Devices!C309","v":0},{"$f":"Devices!D309","v":0},{"$f":"Devices!E309","v":0}]
[{"$f":"IF(SUM(F117:F120)>0,\"\",Circuits!$B$14)","v":""},{"$f":"IF(SUM(F117:F120)>0,\"\",Circuits!$C$14)","v":0},{"$f":"Devices!B310","v":0},{"$f":"Devices!C310","v":0},{"$f":"Devices!D310","v":0},{"$f":"Devices!E310","v":0}]
[{"$f":"IF(SUM(F117:F121)>0,\"\",Circuits!$B$14)","v":""},{"$f":"IF(SUM(F117:F121)>0,\"\",Circuits!$C$14)","v":0},{"$f":"Devices!B311","v":0},{"$f":"Devices!C311","v":0},{"$f":"Devices!D311","v":0},{"$f":"Devices!E311","v":0}]
[{"$f":"IF(SUM(F117:F122)>0,\"\",Circuits!$B$14)","v":""},{"$f":"IF(SUM(F117:F122)>0,\"\",Circuits!$C$14)","v":0},{"$f":"Devices!B312","v":0},{"$f":"Devices!C312","v":0},{"$f":"Devices!D312","v":0},{"$f":"Devices!E312","v":0}]
[{"$f":"IF(SUM(F117:F123)>0,\"\",Circuits!$B$14)","v":""},{"$f":"IF(SUM(F117:F123)>0,\"\",Circuits!$C$14)","v":0},{"$f":"Devices!B313","v":0},{"$f":"Devices!C313","v":0},{"$f":"Devices!D313","v":0},{"$f":"Devices!E313","v":0}]
[{"$f":"IF(SUM(F117:F124)>0,\"\",Circuits!$B$14)","v":""},{"$f":"IF(SUM(F117:F124)>0,\"\",Circuits!$C$14)","v":0},{"$f":"Devices!B314","v":0},{"$f":"Devices!C314","v":0},{"$f":"Devices!D314","v":0},{"$f":"Devices!E314","v":0}]
[{"$f":"IF(SUM(F117:F125)>0,\"\",Circuits!$B$14)","v":""},{"$f":"IF(SUM(F117:F125)>0,\"\",Circuits!$C$14)","v":0},{"$f":"Devices!B315","v":0},{"$f":"Devices!C315","v":0},{"$f":"Devices!D315","v":0},{"$f":"Devices!E315","v":0}]
[null,null,null,null,"Total Circuit Current:",{"$f":"Circuits!E14","v":0}]
[]
[{"$f":"Circuits!B15","v":""},{"$f":"Circuits!C15","v":0},{"$f":"Devices!B336","v":0},{"$f":"Devices!C336","v":0},{"$f":"Devices!D336","v":0},{"$f":"Devices!E336","v":0}]
[{"$f":"IF(F129>0,\"\",Circuits!B15)","v":""},{"$f":"IF(F129>0,\"\",Circuits!$C$15)","v":0},{"$f":"Devices!B337","v":0},{"$f":"Devices!C337","v":0},{"$f":"Devices!D337","v":0},{"$f":"Devices!E337","v":0}]
[{"$f":"IF(SUM(F129:F130)>0,\"\",Circuits!$B$15)","v":""},{"$f":"IF(SUM(F129:F130)>0,\"\",Circuits!$C$15)","v":0},{"$f":"Devices!B338","v":0},{"$f":"Devices!C338","v":0},{"$f":"Devices!D338","v":0},{"$f":"Devices!E338","v":0}]
[{"$f":"IF(SUM(F129:F131)>0,\"\",Circuits!$B$15)","v":""},{"$f":"IF(SUM(F129:F131)>0,\"\",Circuits!$C$15)","v":0},{"$f":"Devices!B339","v":0},{"$f":"Devices!C339","v":0},{"$f":"Devices!D339","v":0},{"$f":"Devices!E339","v":0}]
[{"$f":"IF(SUM(F129:F132)>0,\"\",Circuits!$B$15)","v":""},{"$f":"IF(SUM(F129:F132)>0,\"\",Circuits!$C$15)","v":0},{"$f":"Devices!B340","v":0},{"$f":"Devices!C340","v":0},{"$f":"Devices!D340","v":0},{"$f":"Devices!E340","v":0}]
[{"$f":"IF(SUM(F129:F133)>0,\"\",Circuits!$B$15)","v":""},{"$f":"IF(SUM(F129:F133)>0,\"\",Circuits!$C$15)","v":0},{"$f":"Devices!B341","v":0},{"$f":"Devices!C341","v":0},{"$f":"Devices!D341","v":0},{"$f":"Devices!E341","v":0}]
[{"$f":"IF(SUM(F129:F134)>0,\"\",Circuits!$B$15)","v":""},{"$f":"IF(SUM(F129:F134)>0,\"\",Circuits!$C$15)","v":0},{"$f":"Devices!B342","v":0},{"$f":"Devices!C342","v":0},{"$f":"Devices!D342","v":0},{"$f":"Devices!E342","v":0}]
[{"$f":"IF(SUM(F129:F135)>0,\"\",Circuits!$B$15)","v":""},{"$f":"IF(SUM(F129:F135)>0,\"\",Circuits!$C$15)","v":0},{"$f":"Devices!B343","v":0},{"$f":"Devices!C343","v":0},{"$f":"Devices!D343","v":0},{"$f":"Devices!E343","v":0}]
[{"$f":"IF(SUM(F129:F136)>0,\"\",Circuits!$B$15)","v":""},{"$f":"IF(SUM(F129:F136)>0,\"\",Circuits!$C$15)","v":0},{"$f":"Devices!B344","v":0},{"$f":"Devices!C344","v":0},{"$f":"Devices!D344","v":0},{"$f":"Devices!E344","v":0}]
[{"$f":"IF(SUM(F129:F137)>0,\"\",Circuits!$B$15)","v":""},{"$f":"IF(SUM(F129:F137)>0,\"\",Circuits!$C$15)","v":0},{"$f":"Devices!B345","v":0},{"$f":"Devices!C345","v":0},{"$f":"Devices!D345","v":0},{"$f":"Devices!E345","v":0}]
[null,null,null,null,"Total Circuit Current:",{"$f":"Circuits!E15","v":0}]
[]
[{"$f":"Circuits!B16","v":""},{"$f":"Circuits!C16","v":0},{"$f":"Devices!B366","v":0},{"$f":"Devices!C366","v":0},{"$f":"Devices!D366","v":0},{"$f":"Devices!E366","v":0}]
[{"$f":"IF(F141>0,\"\",Circuits!B16)","v":""},{"$f":"IF(F141>0,\"\",Circuits!$C$16)","v":0},{"$f":"Devices!B367","v":0},{"$f":"Devices!C367","v":0},{"$f":"Devices!D367","v":0},{"$f":"Devices!E367","v":0}]
[{"$f":"IF(SUM(F141:F142)>0,\"\",Circuits!$B$16)","v":""},{"$f":"IF(SUM(F141:F142)>0,\"\",Circuits!$C$16)","v":0},{"$f":"Devices!B368","v":0},{"$f":"Devices!C368","v":0},{"$f":"Devices!D368","v":0},{"$f":"Devices!E368","v":0}]
[{"$f":"IF(SUM(F141:F143)>0,\"\",Circuits!$B$16)","v":""},{"$f":"IF(SUM(F141:F143)>0,\"\",Circuits!$C$16)","v":0},{"$f":"Devices!B369","v":0},{"$f":"Devices!C369","v":0},{"$f":"Devices!D369","v":0},{"$f":"Devices!E369","v":0}]
[{"$f":"IF(SUM(F141:F144)>0,\"\",Circuits!$B$16)","v":""},{"$f":"IF(SUM(F141:F144)>0,\"\",Circuits!$C$16)","v":0},{"$f":"Devices!B370","v":0},{"$f":"Devices!C370","v":0},{"$f":"Devices!D370","v":0},{"$f":"Devices!E370","v":0}]
[{"$f":"IF(SUM(F141:F145)>0,\"\",Circuits!$B$16)","v":""},{"$f":"IF(SUM(F141:F145)>0,\"\",Circuits!$C$16)","v":0},{"$f":"Devices!B371","v":0},{"$f":"Devices!C371","v":0},{"$f":"Devices!D371","v":0},{"$f":"Devices!E371","v":0}]
[{"$f":"IF(SUM(F141:F146)>0,\"\",Circuits!$B$16)","v":""},{"$f":"IF(SUM(F141:F146)>0,\"\",Circuits!$C$16)","v":0},{"$f":"Devices!B372","v":0},{"$f":"Devices!C372","v":0},{"$f":"Devices!D372","v":0},{"$f":"Devices!E372","v":0}]
[{"$f":"IF(SUM(F141:F147)>0,\"\",Circuits!$B$16)","v":""},{"$f":"IF(SUM(F141:F147)>0,\"\",Circuits!$C$16)","v":0},{"$f":"Devices!B373","v":0},{"$f":"Devices!C373","v":0},{"$f":"Devices!D373","v":0},{"$f":"Devices!E373","v":0}]
[{"$f":"IF(SUM(F141:F148)>0,\"\",Circuits!$B$16)","v":""},{"$f":"IF(SUM(F141:F148)>0,\"\",Circuits!$C$16)","v":0},{"$f":"Devices!B374","v":0},{"$f":"Devices!C374","v":0},{"$f":"Devices!D374","v":0},{"$f":"Devices!E374","v":0}]
[{"$f":"IF(SUM(F141:F149)>0,\"\",Circuits!$B$16)","v":""},{"$f":"IF(SUM(F141:F149)>0,\"\",Circuits!$C$16)","v":0},{"$f":"Devices!B375","v":0},{"$f":"Devices!C375","v":0},{"$f":"Devices!D375","v":0},{"$f":"Devices!E375","v":0}]
[null,null,null,null,"Total Circuit Current:",{"$f":"Circuits!E16","v":0}]
[]
[{"$f":"Circuits!B17","v":""},{"$f":"Circuits!C17","v":0},{"$f":"Devices!B396","v":0},{"$f":"Devices!C396","v":0},{"$f":"Devices!D396","v":0},{"$f":"Devices!E396","v":0}]
[{"$f":"IF(F153>0,\"\",Circuits!B17)","v":""},{"$f":"IF(F153>0,\"\",Circuits!$C$17)","v":0},{"$f":"Devices!B397","v":0},{"$f":"Devices!C397","v":0},{"$f":"Devices!D397","v":0},{"$f":"Devices!E397","v":0}]
[{"$f":"IF(SUM(F153:F154)>0,\"\",Circuits!$B$17)","v":""},{"$f":"IF(SUM(F153:F154)>0,\"\",Circuits!$C$17)","v":0},{"$f":"Devices!B398","v":0},{"$f":"Devices!C398","v":0},{"$f":"Devices!D398","v":0},{"$f":"Devices!E398","v":0}]
[{"$f":"IF(SUM(F153:F155)>0,\"\",Circuits!$B$17)","v":""},{"$f":"IF(SUM(F153:F155)>0,\"\",Circuits!$C$17)","v":0},{"$f":"Devices!B399","v":0},{"$f":"Devices!C399","v":0},{"$f":"Devices!D399","v":0},{"$f":"Devices!E399","v":0}]
[{"$f":"IF(SUM(F153:F156)>0,\"\",Circuits!$B$17)","v":""},{"$f":"IF(SUM(F153:F156)>0,\"\",Circuits!$C$17)","v":0},{"$f":"Devices!B400","v":0},{"$f":"Devices!C400","v":0},{"$f":"Devices!D400","v":0},{"$f":"Devices!E400","v":0}]
[{"$f":"IF(SUM(F153:F157)>0,\"\",Circuits!$B$17)","v":""},{"$f":"IF(SUM(F153:F157)>0,\"\",Circuits!$C$17)","v":0},{"$f":"Devices!B401","v":0},{"$f":"Devices!C401","v":0},{"$f":"Devices!D401","v":0},{"$f":"Devices!E401","v":0}]
[{"$f":"IF(SUM(F153:F158)>0,\"\",Circuits!$B$17)","v":""},{"$f":"IF(SUM(F153:F158)>0,\"\",Circuits!$C$17)","v":0},{"$f":"Devices!B402","v":0},{"$f":"Devices!C402","v":0},{"$f":"Devices!D402","v":0},{"$f":"Devices!E402","v":0}]
[{"$f":"IF(SUM(F153:F159)>0,\"\",Circuits!$B$17)","v":""},{"$f":"IF(SUM(F153:F159)>0,\"\",Circuits!$C$17)","v":0},{"$f":"Devices!B403","v":0},{"$f":"Devices!C403","v":0},{"$f":"Devices!D403","v":0},{"$f":"Devices!E403","v":0}]
[{"$f":"IF(SUM(F153:F160)>0,\"\",Circuits!$B$17)","v":""},{"$f":"IF(SUM(F153:F160)>0,\"\",Circuits!$C$17)","v":0},{"$f":"Devices!B404","v":0},{"$f":"Devices!C404","v":0},{"$f":"Devices!D404","v":0},{"$f":"Devices!E404","v":0}]
[{"$f":"IF(SUM(F153:F161)>0,\"\",Circuits!$B$17)","v":""},{"$f":"IF(SUM(F153:F161)>0,\"\",Circuits!$C$17)","v":0},{"$f":"Devices!B405","v":0},{"$f":"Devices!C405","v":0},{"$f":"Devices!D405","v":0},{"$f":"Devices!E405","v":0}]
[null,null,null,null,"Total Circuit Current:",{"$f":"Circuits!E17","v":0}]
[]
[{"$f":"Circuits!B18","v":""},{"$f":"Circuits!C18","v":0},{"$f":"Devices!B426","v":0},{"$f":"Devices!C426","v":0},{"$f":"Devices!D426","v":0},{"$f":"Devices!E426","v":0}]
[{"$f":"IF(F165>0,\"\",Circuits!B18)","v":""},{"$f":"IF(F165>0,\"\",Circuits!$C$18)","v":0},{"$f":"Devices!B427","v":0},{"$f":"Devices!C427","v":0},{"$f":"Devices!D427","v":0},{"$f":"Devices!E427","v":0}]
[{"$f":"IF(SUM(F165:F166)>0,\"\",Circuits!$B$18)","v":""},{"$f":"IF(SUM(F165:F166)>0,\"\",Circuits!$C$18)","v":0},{"$f":"Devices!B428","v":0},{"$f":"Devices!C428","v":0},{"$f":"Devices!D428","v":0},{"$f":"Devices!E428","v":0}]
[{"$f":"IF(SUM(F165:F167)>0,\"\",Circuits!$B$18)","v":""},{"$f":"IF(SUM(F165:F167)>0,\"\",Circuits!$C$18)","v":0},{"$f":"Devices!B429","v":0},{"$f":"Devices!C429","v":0},{"$f":"Devices!D429","v":0},{"$f":"Devices!E429","v":0}]
[{"$f":"IF(SUM(F165:F168)>0,\"\",Circuits!$B$18)","v":""},{"$f":"IF(SUM(F165:F168)>0,\"\",Circuits!$C$18)","v":0},{"$f":"Devices!B430","v":0},{"$f":"Devices!C430","v":0},{"$f":"Devices!D430","v":0},{"$f":"Devices!E430","v":0}]
[{"$f":"IF(SUM(F165:F169)>0,\"\",Circuits!$B$18)","v":""},{"$f":"IF(SUM(F165:F169)>0,\"\",Circuits!$C$18)","v":0},{"$f":"Devices!B431","v":0},{"$f":"Devices!C431","v":0},{"$f":"Devices!D431","v":0},{"$f":"Devices!E431","v":0}]
[{"$f":"IF(SUM(F165:F170)>0,\"\",Circuits!$B$18)","v":""},{"$f":"IF(SUM(F165:F170)>0,\"\",Circuits!$C$18)","v":0},{"$f":"Devices!B432","v":0},{"$f":"Devices!C432","v":0},{"$f":"Devices!D432","v":0},{"$f":"Devices!E432","v":0}]
[{"$f":"IF(SUM(F165:F171)>0,\"\",Circuits!$B$18)","v":""},{"$f":"IF(SUM(F165:F171)>0,\"\",Circuits!$C$18)","v":0},{"$f":"Devices!B433","v":0},{"$f":"Devices!C433","v":0},{"$f":"Devices!D433","v":0},{"$f":"Devices!E433","v":0}]
[{"$f":"IF(SUM(F165:F172)>0,\"\",Circuits!$B$18)","v":""},{"$f":"IF(SUM(F165:F172)>0,\"\",Circuits!$C$18)","v":0},{"$f":"Devices!B434","v":0},{"$f":"Devices!C434","v":0},{"$f":"Devices!D434","v":0},{"$f":"Devices!E434","v":0}]
[{"$f":"IF(SUM(F165:F173)>0,\"\",Circuits!$B$18)","v":""},{"$f":"IF(SUM(F165:F173)>0,\"\",Circuits!$C$18)","v":0},{"$f":"Devices!B435","v":0},{"$f":"Devices!C435","v":0},{"$f":"Devices!D435","v":0},{"$f":"Devices!E435","v":0}]
[null,null,null,null,"Total Circuit Current:",{"$f":"Circuits!E18","v":0}]
[]
[{"$f":"Circuits!B19","v":""},{"$f":"Circuits!C19","v":0},{"$f":"Devices!B456","v":0},{"$f":"Devices!C456","v":0},{"$f":"Devices!D456","v":0},{"$f":"Devices!E456","v":0}]
[{"$f":"IF(F177>0,\"\",Circuits!B19)","v":""},{"$f":"IF(F177>0,\"\",Circuits!$C$19)","v":0},{"$f":"Devices!B457","v":0},{"$f":"Devices!C457","v":0},{"$f":"Devices!D457","v":0},{"$f":"Devices!E457","v":0}]
[{"$f":"IF(SUM(F177:F178)>0,\"\",Circuits!$B$19)","v":""},{"$f":"IF(SUM(F177:F178)>0,\"\",Circuits!$C$19)","v":0},{"$f":"Devices!B458","v":0},{"$f":"Devices!C458","v":0},{"$f":"Devices!D458","v":0},{"$f":"Devices!E458","v":0}]
[{"$f":"IF(SUM(F177:F179)>0,\"\",Circuits!$B$19)","v":""},{"$f":"IF(SUM(F177:F179)>0,\"\",Circuits!$C$19)","v":0},{"$f":"Devices!B459","v":0},{"$f":"Devices!C459","v":0},{"$f":"Devices!D459","v":0},{"$f":"Devices!E459","v":0}]
[{"$f":"IF(SUM(F177:F180)>0,\"\",Circuits!$B$19)","v":""},{"$f":"IF(SUM(F177:F180)>0,\"\",Circuits!$C$19)","v":0},{"$f":"Devices!B460","v":0},{"$f":"Devices!C460","v":0},{"$f":"Devices!D460","v":0},{"$f":"Devices!E460","v":0}]
[{"$f":"IF(SUM(F177:F181)>0,\"\",Circuits!$B$19)","v":""},{"$f":"IF(SUM(F177:F181)>0,\"\",Circuits!$C$19)","v":0},{"$f":"Devices!B461","v":0},{"$f":"Devices!C461","v":0},{"$f":"Devices!D461","v":0},{"$f":"Devices!E461","v":0}]
[{"$f":"IF(SUM(F177:F182)>0,\"\",Circuits!$B$19)","v":""},{"$f":"IF(SUM(F177:F182)>0,\"\",Circuits!$C$19)","v":0},{"$f":"Devices!B462","v":0},{"$f":"Devices!C462","v":0},{"$f":"Devices!D462","v":0},{"$f":"Devices!E462","v":0}]
[{"$f":"IF(SUM(F177:F183)>0,\"\",Circuits!$B$19)","v":""},{"$f":"IF(SUM(F177:F183)>0,\"\",Circuits!$C$19)","v":0},{"$f":"Devices!B463","v":0},{"$f":"Devices!C463","v":0},{"$f":"Devices!D463","v":0},{"$f":"Devices!E463","v":0}]
[{"$f":"IF(SUM(F177:F184)>0,\"\",Circuits!$B$19)","v":""},{"$f":"IF(SUM(F177:F184)>0,\"\",Circuits!$C$19)","v":0},{"$f":"Devices!B464","v":0},{"$f":"Devices!C464","v":0},{"$f":"Devices!D464","v":0},{"$f":"Devices!E464","v":0}]
[{"$f":"IF(SUM(F177:F185)>0,\"\",Circuits!$B$19)","v":""},{"$f":"IF(SUM(F177:F185)>0,\"\",Circuits!$C$19)","v":0},{"$f":"Devices!B465","v":0},{"$f":"Devices!C465","v":0},{"$f":"Devices!D465","v":0},{"$f":"Devices!E465","v":0}]
[null,null,null,null,"Total Circuit Current:",{"$f":"Circuits!E19","v":0}]
[]
[{"$f":"Circuits!B20","v":""},{"$f":"Circuits!C20","v":0},{"$f":"Devices!B486","v":0},{"$f":"Devices!C486","v":0},{"$f":"Devices!D486","v":0},{"$f":"Devices!E486","v":0}]
[{"$f":"IF(F189>0,\"\",Circuits!B20)","v":""},{"$f":"IF(F189>0,\"\",Circuits!$C$20)","v":0},{"$f":"Devices!B487","v":0},{"$f":"Devices!C487","v":0},{"$f":"Devices!D487","v":0},{"$f":"Devices!E487","v":0}]
[{"$f":"IF(SUM(F189:F190)>0,\"\",Circuits!$B$20)","v":""},{"$f":"IF(SUM(F189:F190)>0,\"\",Circuits!$C$20)","v":0},{"$f":"Devices!B488","v":0},{"$f":"Devices!C488","v":0},{"$f":"Devices!D488","v":0},{"$f":"Devices!E488","v":0}]
[{"$f":"IF(SUM(F189:F191)>0,\"\",Circuits!$B$20)","v":""},{"$f":"IF(SUM(F189:F191)>0,\"\",Circuits!$C$20)","v":0},{"$f":"Devices!B489","v":0},{"$f":"Devices!C489","v":0},{"$f":"Devices!D489","v":0},{"$f":"Devices!E489","v":0}]
[{"$f":"IF(SUM(F189:F192)>0,\"\",Circuits!$B$20)","v":""},{"$f":"IF(SUM(F189:F192)>0,\"\",Circuits!$C$20)","v":0},{"$f":"Devices!B490","v":0},{"$f":"Devices!C490","v":0},{"$f":"Devices!D490","v":0},{"$f":"Devices!E490","v":0}]
[{"$f":"IF(SUM(F189:F193)>0,\"\",Circuits!$B$20)","v":""},{"$f":"IF(SUM(F189:F193)>0,\"\",Circuits!$C$20)","v":0},{"$f":"Devices!B491","v":0},{"$f":"Devices!C491","v":0},{"$f":"Devices!D491","v":0},{"$f":"Devices!E491","v":0}]
[{"$f":"IF(SUM(F189:F194)>0,\"\",Circuits!$B$20)","v":""},{"$f":"IF(SUM(F189:F194)>0,\"\",Circuits!$C$20)","v":0},{"$f":"Devices!B492","v":0},{"$f":"Devices!C492","v":0},{"$f":"Devices!D492","v":0},{"$f":"Devices!E492","v":0}]
[{"$f":"IF(SUM(F189:F195)>0,\"\",Circuits!$B$20)","v":""},{"$f":"IF(SUM(F189:F195)>0,\"\",Circuits!$C$20)","v":0},{"$f":"Devices!B493","v":0},{"$f":"Devices!C493","v":0},{"$f":"Devices!D493","v":0},{"$f":"Devices!E493","v":0}]
[{"$f":"IF(SUM(F189:F196)>0,\"\",Circuits!$B$20)","v":""},{"$f":"IF(SUM(F189:F196)>0,\"\",Circuits!$C$20)","v":0},{"$f":"Devices!B494","v":0},{"$f":"Devices!C494","v":0},{"$f":"Devices!D494","v":0},{"$f":"Devices!E494","v":0}]
[{"$f":"IF(SUM(F189:F197)>0,\"\",Circuits!$B$20)","v":""},{"$f":"IF(SUM(F189:F197)>0,\"\",Circuits!$C$20)","v":0},{"$f":"Devices!B495","v":0},{"$f":"Devices!C495","v":0},{"$f":"Devices!D495","v":0},{"$f":"Devices!E495","v":0}]
[null,null,null,null,"Total Circuit Current:",{"$f":"Circuits!E20","v":0}]
[]
[{"$f":"Circuits!B21","v":""},{"$f":"Circuits!C21","v":0},{"$f":"Devices!B516","v":0},{"$f":"Devices!C516","v":0},{"$f":"Devices!D516","v":0},{"$f":"Devices!E516","v":0}]
[{"$f":"IF(F201>0,\"\",Circuits!B21)","v":""},{"$f":"IF(F201>0,\"\",Circuits!$C$21)","v":0},{"$f":"Devices!B517","v":0},{"$f":"Devices!C517","v":0},{"$f":"Devices!D517","v":0},{"$f":"Devices!E517","v":0}]
[{"$f":"IF(SUM(F201:F202)>0,\"\",Circuits!$B$21)","v":""},{"$f":"IF(SUM(F201:F202)>0,\"\",Circuits!$C$21)","v":0},{"$f":"Devices!B518","v":0},{"$f":"Devices!C518","v":0},{"$f":"Devices!D518","v":0},{"$f":"Devices!E518","v":0}]
[{"$f":"IF(SUM(F201:F203)>0,\"\",Circuits!$B$21)","v":""},{"$f":"IF(SUM(F201:F203)>0,\"\",Circuits!$C$21)","v":0},{"$f":"Devices!B519","v":0},{"$f":"Devices!C519","v":0},{"$f":"Devices!D519","v":0},{"$f":"Devices!E519","v":0}]
[{"$f":"IF(SUM(F201:F204)>0,\"\",Circuits!$B$21)","v":""},{"$f":"IF(SUM(F201:F204)>0,\"\",Circuits!$C$21)","v":0},{"$f":"Devices!B520","v":0},{"$f":"Devices!C520","v":0},{"$f":"Devices!D520","v":0},{"$f":"Devices!E520","v":0}]
[{"$f":"IF(SUM(F201:F205)>0,\"\",Circuits!$B$21)","v":""},{"$f":"IF(SUM(F201:F205)>0,\"\",Circuits!$C$21)","v":0},{"$f":"Devices!B521","v":0},{"$f":"Devices!C521","v":0},{"$f":"Devices!D521","v":0},{"$f":"Devices!E521","v":0}]
[{"$f":"IF(SUM(F201:F206)>0,\"\",Circuits!$B$21)","v":""},{"$f":"IF(SUM(F201:F206)>0,\"\",Circuits!$C$21)","v":0},{"$f":"Devices!B522","v":0},{"$f":"Devices!C522","v":0},{"$f":"Devices!D522","v":0},{"$f":"Devices!E522","v":0}]
[{"$f":"IF(SUM(F201:F207)>0,\"\",Circuits!$B$21)","v":""},{"$f":"IF(SUM(F201:F207)>0,\"\",Circuits!$C$21)","v":0},{"$f":"Devices!B523","v":0},{"$f":"Devices!C523","v":0},{"$f":"Devices!D523","v":0},{"$f":"Devices!E523","v":0}]
[{"$f":"IF(SUM(F201:F208)>0,\"\",Circuits!$B$21)","v":""},{"$f":"IF(SUM(F201:F208)>0,\"\",Circuits!$C$21)","v":0},{"$f":"Devices!B524","v":0},{"$f":"Devices!C524","v":0},{"$f":"Devices!D524","v":0},{"$f":"Devices!E524","v":0}]
[{"$f":"IF(SUM(F201:F209)>0,\"\",Circuits!$B$21)","v":""},{"$f":"IF(SUM(F201:F209)>0,\"\",Circuits!$C$21)","v":0},{"$f":"Devices!B525","v":0},{"$f":"Devices!C525","v":0},{"$f":"Devices!D525","v":0},{"$f":"Devices!E525","v":0}]
[null,null,null,null,"Total Circuit Current:",{"$f":"Circuits!E21","v":0}]
[]
[{"$f":"Circuits!B22","v":""},{"$f":"Circuits!C22","v":0},{"$f":"Devices!B546","v":0},{"$f":"Devices!C546","v":0},{"$f":"Devices!D546","v":0},{"$f":"Devices!E546","v":0}]
[{"$f":"IF(F213>0,\"\",Circuits!B22)","v":""},{"$f":"IF(F213>0,\"\",Circuits!$C$22)","v":0},{"$f":"Devices!B547","v":0},{"$f":"Devices!C547","v":0},{"$f":"Devices!D547","v":0},{"$f":"Devices!E547","v":0}]
[{"$f":"IF(SUM(F213:F214)>0,\"\",Circuits!$B$22)","v":""},{"$f":"IF(SUM(F213:F214)>0,\"\",Circuits!$C$22)","v":0},{"$f":"Devices!B548","v":0},{"$f":"Devices!C548","v":0},{"$f":"Devices!D548","v":0},{"$f":"Devices!E548","v":0}]
[{"$f":"IF(SUM(F213:F215)>0,\"\",Circuits!$B$22)","v":""},{"$f":"IF(SUM(F213:F215)>0,\"\",Circuits!$C$22)","v":0},{"$f":"Devices!B549","v":0},{"$f":"Devices!C549","v":0},{"$f":"Devices!D549","v":0},{"$f":"Devices!E549","v":0}]
[{"$f":"IF(SUM(F213:F216)>0,\"\",Circuits!$B$22)","v":""},{"$f":"IF(SUM(F213:F216)>0,\"\",Circuits!$C$22)","v":0},{"$f":"Devices!B550","v":0},{"$f":"Devices!C550","v":0},{"$f":"Devices!D550","v":0},{"$f":"Devices!E550","v":0}]
[{"$f":"IF(SUM(F213:F217)>0,\"\",Circuits!$B$22)","v":""},{"$f":"IF(SUM(F213:F217)>0,\"\",Circuits!$C$22)","v":0},{"$f":"Devices!B551","v":0},{"$f":"Devices!C551","v":0},{"$f":"Devices!D551","v":0},{"$f":"Devices!E551","v":0}]
[{"$f":"IF(SUM(F213:F218)>0,\"\",Circuits!$B$22)","v":""},{"$f":"IF(SUM(F213:F218)>0,\"\",Circuits!$C$22)","v":0},{"$f":"Devices!B552","v":0},{"$f":"Devices!C552","v":0},{"$f":"Devices!D552","v":0},{"$f":"Devices!E552","v":0}]
[{"$f":"IF(SUM(F213:F219)>0,\"\",Circuits!$B$22)","v":""},{"$f":"IF(SUM(F213:F219)>0,\"\",Circuits!$C$22)","v":0},{"$f":"Devices!B553","v":0},{"$f":"Devices!C553","v":0},{"$f":"Devices!D553","v":0},{"$f":"Devices!E553","v":0}]
[{"$f":"IF(SUM(F213:F220)>0,\"\",Circuits!$B$22)","v":""},{"$f":"IF(SUM(F213:F220)>0,\"\",Circuits!$C$22)","v":0},{"$f":"Devices!B554","v":0},{"$f":"Devices!C554","v":0},{"$f":"Devices!D554","v":0},{"$f":"Devices!E554","v":0}]
[{"$f":"IF(SUM(F213:F221)>0,\"\",Circuits!$B$22)","v":""},{"$f":"IF(SUM(F213:F221)>0,\"\",Circuits!$C$22)","v":0},{"$f":"Devices!B555","v":0},{"$f":"Devices!C555","v":0},{"$f":"Devices!D555","v":0},{"$f":"Devices!E555","v":0}]
[null,null,null,null,"Total Circuit Current:",{"$f":"Circuits!E22","v":0}]
[]
[{"$f":"Circuits!B23","v":""},{"$f":"Circuits!C23","v":0},{"$f":"Devices!B576","v":0},{"$f":"Devices!C576","v":0},{"$f":"Devices!D576","v":0},{"$f":"Devices!E576","v":0}]
[{"$f":"IF(F225>0,\"\",Circuits!B23)","v":""},{"$f":"IF(F225>0,\"\",Circuits!$C$23)","v":0},{"$f":"Devices!B577","v":0},{"$f":"Devices!C577","v":0},{"$f":"Devices!D577","v":0},{"$f":"Devices!E577","v":0}]
[{"$f":"IF(SUM(F225:F226)>0,\"\",Circuits!$B$23)","v":""},{"$f":"IF(SUM(F225:F226)>0,\"\",Circuits!$C$23)","v":0},{"$f":"Devices!B578","v":0},{"$f":"Devices!C578","v":0},{"$f":"Devices!D578","v":0},{"$f":"Devices!E578","v":0}]
[{"$f":"IF(SUM(F225:F227)>0,\"\",Circuits!$B$23)","v":""},{"$f":"IF(SUM(F225:F227)>0,\"\",Circuits!$C$23)","v":0},{"$f":"Devices!B579","v":0},{"$f":"Devices!C579","v":0},{"$f":"Devices!D579","v":0},{"$f":"Devices!E579","v":0}]
[{"$f":"IF(SUM(F225:F228)>0,\"\",Circuits!$B$23)","v":""},{"$f":"IF(SUM(F225:F228)>0,\"\",Circuits!$C$23)","v":0},{"$f":"Devices!B580","v":0},{"$f":"Devices!C580","v":0},{"$f":"Devices!D580","v":0},{"$f":"Devices!E580","v":0}]
[{"$f":"IF(SUM(F225:F229)>0,\"\",Circuits!$B$23)","v":""},{"$f":"IF(SUM(F225:F229)>0,\"\",Circuits!$C$23)","v":0},{"$f":"Devices!B581","v":0},{"$f":"Devices!C581","v":0},{"$f":"Devices!D581","v":0},{"$f":"Devices!E581","v":0}]
[{"$f":"IF(SUM(F225:F230)>0,\"\",Circuits!$B$23)","v":""},{"$f":"IF(SUM(F225:F230)>0,\"\",Circuits!$C$23)","v":0},{"$f":"Devices!B582","v":0},{"$f":"Devices!C582","v":0},{"$f":"Devices!D582","v":0},{"$f":"Devices!E582","v":0}]
[{"$f":"IF(SUM(F225:F231)>0,\"\",Circuits!$B$23)","v":""},{"$f":"IF(SUM(F225:F231)>0,\"\",Circuits!$C$23)","v":0},{"$f":"Devices!B583","v":0},{"$f":"Devices!C583","v":0},{"$f":"Devices!D583","v":0},{"$f":"Devices!E583","v":0}]
[{"$f":"IF(SUM(F225:F232)>0,\"\",Circuits!$B$23)","v":""},{"$f":"IF(SUM(F225:F232)>0,\"\",Circuits!$C$23)","v":0},{"$f":"Devices!B584","v":0},{"$f":"Devices!C584","v":0},{"$f":"Devices!D584","v":0},{"$f":"Devices!E584","v":0}]
[{"$f":"IF(SUM(F225:F233)>0,\"\",Circuits!$B$23)","v":""},{"$f":"IF(SUM(F225:F233)>0,\"\",Circuits!$C$23)","v":0},{"$f":"Devices!B585","v":0},{"$f":"Devices!C585","v":0},{"$f":"Devices!D585","v":0},{"$f":"Devices!E585","v":0}]
[null,null,null,null,"Total Circuit Current:",{"$f":"Circuits!E23","v":0}]
[]
[{"$f":"Circuits!B24","v":""},{"$f":"Circuits!C24","v":0},{"$f":"Devices!B606","v":0},{"$f":"Devices!C606","v":0},{"$f":"Devices!D606","v":0},{"$f":"Devices!E606","v":0}]
[{"$f":"IF(F237>0,\"\",Circuits!B24)","v":""},{"$f":"IF(F237>0,\"\",Circuits!$C$24)","v":0},{"$f":"Devices!B607","v":0},{"$f":"Devices!C607","v":0},{"$f":"Devices!D607","v":0},{"$f":"Devices!E607","v":0}]
[{"$f":"IF(SUM(F237:F238)>0,\"\",Circuits!$B$24)","v":""},{"$f":"IF(SUM(F237:F238)>0,\"\",Circuits!$C$24)","v":0},{"$f":"Devices!B608","v":0},{"$f":"Devices!C608","v":0},{"$f":"Devices!D608","v":0},{"$f":"Devices!E608","v":0}]
[{"$f":"IF(SUM(F237:F239)>0,\"\",Circuits!$B$24)","v":""},{"$f":"IF(SUM(F237:F239)>0,\"\",Circuits!$C$24)","v":0},{"$f":"Devices!B609","v":0},{"$f":"Devices!C609","v":0},{"$f":"Devices!D609","v":0},{"$f":"Devices!E609","v":0}]
[{"$f":"IF(SUM(F237:F240)>0,\"\",Circuits!$B$24)","v":""},{"$f":"IF(SUM(F237:F240)>0,\"\",Circuits!$C$24)","v":0},{"$f":"Devices!B610","v":0},{"$f":"Devices!C610","v":0},{"$f":"Devices!D610","v":0},{"$f":"Devices!E610","v":0}]
[{"$f":"IF(SUM(F237:F241)>0,\"\",Circuits!$B$24)","v":""},{"$f":"IF(SUM(F237:F241)>0,\"\",Circuits!$C$24)","v":0},{"$f":"Devices!B611","v":0},{"$f":"Devices!C611","v":0},{"$f":"Devices!D611","v":0},{"$f":"Devices!E611","v":0}]
[{"$f":"IF(SUM(F237:F242)>0,\"\",Circuits!$B$24)","v":""},{"$f":"IF(SUM(F237:F242)>0,\"\",Circuits!$C$24)","v":0},{"$f":"Devices!B612","v":0},{"$f":"Devices!C612","v":0},{"$f":"Devices!D612","v":0},{"$f":"Devices!E612","v":0}]
[{"$f":"IF(SUM(F237:F243)>0,\"\",Circuits!$B$24)","v":""},{"$f":"IF(SUM(F237:F243)>0,\"\",Circuits!$C$24)","v":0},{"$f":"Devices!B613","v":0},{"$f":"Devices!C613","v":0},{"$f":"Devices!D613","v":0},{"$f":"Devices!E613","v":0}]
[{"$f":"IF(SUM(F237:F244)>0,\"\",Circuits!$B$24)","v":""},{"$f":"IF(SUM(F237:F244)>0,\"\",Circuits!$C$24)","v":0},{"$f":"Devices!B614","v":0},{"$f":"Devices!C614","v":0},{"$f":"Devices!D614","v":0},{"$f":"Devices!E614","v":0}]
[{"$f":"IF(SUM(F237:F245)>0,\"\",Circuits!$B$24)","v":""},{"$f":"IF(SUM(F237:F245)>0,\"\",Circuits!$C$24)","v":0},{"$f":"Devices!B615","v":0},{"$f":"Devices!C615","v":0},{"$f":"Devices!D615","v":0},{"$f":"Devices!E615","v":0}]
[null,null,null,null,"Total Circuit Current:",{"$f":"Circuits!E24","v":0}]